BEGIN:VCALENDAR
VERSION:2.0
PRODID:-//Patriot Guard Riders - ECPv5.3.2.1//NONSGML v1.0//EN
CALSCALE:GREGORIAN
METHOD:PUBLISH
X-WR-CALNAME:Patriot Guard Riders
X-ORIGINAL-URL:https://www.patriotguard.org
X-WR-CALDESC:Events for Patriot Guard Riders
BEGIN:VTIMEZONE
TZID:America/New_York
BEGIN:DAYLIGHT
TZOFFSETFROM:-0500
TZOFFSETTO:-0400
TZNAME:EDT
DTSTART:20190310T070000
END:DAYLIGHT
BEGIN:STANDARD
TZOFFSETFROM:-0400
TZOFFSETTO:-0500
TZNAME:EST
DTSTART:20191103T060000
END:STANDARD
END:VTIMEZONE
BEGIN:VEVENT
DTSTART;VALUE=DATE:20190729
DTEND;VALUE=DATE:20190730
DTSTAMP:20210402T115927
CREATED:20190727T052612Z
LAST-MODIFIED:20190727T053001Z
UID:168812-1564358400-1564444799@www.patriotguard.org
SUMMARY:Edwin W. Howe
DESCRIPTION:Honor Mission\nEdwin W. Howe\, Retired\nUSA – Vietnam\nDoylestown\, Pennsylvania – 07-29-19\n\n\n\nABOUT THE MISSION: \nThe family of US Army Vietnam Veteran\, Command Center Specialist Edwin W. Howe Jr. has requested that we stand and honor his service to our nation at his visitation and funeral service.  After finishing basic training at Ft. Dix\, Edwin served honorably in the US Army during the Vietnam War where he received the Cross of Gallantry with Palm\, he also received the Vietnam Service Medal\, the Vietnam Campaign Medal\, National Defense Service Medal\, Overseas Service Bar.  Following his service\, he attended the Pennsylvania Police Academy.  Edwin served as a canine officer with the Doylestown Borough Police Dept. from 1973 until he retired in 2001.\nAfter his service we will escort SP4 Edwin J. Howe to his final rest at Washington Crossing National Cemetery as we stand in silent honor of his service to this Nation.\n\n\nPRIMARY STAGING DETAILS: 07-29-19 \nStaging Time: 10:00  \nReed and Steinbach Funeral Home\nDoylestown \, Pennsylvania 18901\nMAP\n\n\nRide Captain: \nTBD\n\n\nSpecial Instructions: \n\n\nFlags & Water:\nFlags will not be provided\nLarge Bike Flags will NOT be needed.\nWater WILL NOT be provided\, please bring your own.\n\n\n\nSubmitted By: Eric Cramer \nPosition: Pennsylvania Ride Captain \n\nNote: You do not have to own/ride a motorcycle or be a veteran to join\, and membership is Free. The only requirement is RESPECT! To subscribe to receive mission notices\, log into the National Site and click on the Members tab at the top. Select the Subscribe to PGR Missions option.\n Print This Page
URL:https://www.patriotguard.org/mission/edwin-w-howe/
CATEGORIES:Honor Mission
END:VEVENT
END:VCALENDAR