BEGIN:VCALENDAR
VERSION:2.0
PRODID:-//Patriot Guard Riders - ECPv5.3.2.1//NONSGML v1.0//EN
CALSCALE:GREGORIAN
METHOD:PUBLISH
X-WR-CALNAME:Patriot Guard Riders
X-ORIGINAL-URL:https://www.patriotguard.org
X-WR-CALDESC:Events for Patriot Guard Riders
BEGIN:VTIMEZONE
TZID:America/New_York
BEGIN:DAYLIGHT
TZOFFSETFROM:-0500
TZOFFSETTO:-0400
TZNAME:EDT
DTSTART:20170312T070000
END:DAYLIGHT
BEGIN:STANDARD
TZOFFSETFROM:-0400
TZOFFSETTO:-0500
TZNAME:EST
DTSTART:20171105T060000
END:STANDARD
END:VTIMEZONE
BEGIN:VEVENT
DTSTART;TZID=America/New_York:20170623T111500
DTEND;TZID=America/New_York:20170623T131500
DTSTAMP:20210405T214437
CREATED:20170623T151500Z
LAST-MODIFIED:20191201T030427Z
UID:309013-1498216500-1498223700@www.patriotguard.org
SUMMARY:Edwin  Quesinberry\, Retired\, USN\, USNR - Korea
DESCRIPTION:Edwin “Bud” Quesinberry\, Retired \nUSN\, USNR – Korea \nMULTI-CITY\, Arizona – 23 Jun 2017\n\n[HR][/HR]\nABOUT THE MISSION: \nEdwin “Bud” Quesinberry proudly served his Country in the US Navy. Bud spent two years in the Navy on active duty\, and served on the destroyer USS Rupertus\, which won 7 Korean War Battle Stars. He then spent 28 years in the US Navy Reserve\, retiring as a full Commander. Bud recently passed away at the age of 87. Surviving Bud are his wife and two sons. Bud’s family has asked the PGR to have a flag line to honor Bud’s service to our Country at the Church for a noon service and later at Prescott National Cemetery for military honors at 3:00 PM. \n\nPRIMARY STAGING DETAILS: 23 Jun 2017 \n \nPrimary Staging Time: 11:15 A.M.\n\nFirst Southern Baptist Church of Prescott Valley\n2820 N. Pleasant View Drive\n\nPrescott Valley\, Arizona – 86314 \n\ngoo.gl/KD3yeU\n\n \nRide Captain:\n\nPhil Whitehead\nphiltbn@gmail.com\n928-237-0073 \nFLAG CAPTAIN: Mike “Inspector” Ammons\n\n \nSpecial Instructions:\n\nStaging: 11:15 AM\nBriefing: 11:30 AM\nFlag line: 11:45 AM \nFlag line will come down after the start of services.\n\n \nFlags & Water:\n\nFlags Will Be Provided\n\nLarge Bike Flags will NOT be needed.\n\nWater will be provided.\n\n\n[HR][/HR]\nSTAGING #2 DETAILS: 23 Jun\, 2017 \n \nStaging #2 Time: 2:15 P.M.\n\nPrescott National Cemetery\nSR 69 & 89\n\nPrescott\, Arizona – 86301 \n\nhttp://tinyurl.com/juvcgx7\n\n \nRide Captain:\n\nPhil Whitehead\nphiltbn@gmail.com\n928-237-0073 \nFLAG CAPTAIN: Mike “Inspector” Ammons\n\n \nSpecial Instructions:\n\nStaging: 2:15 PM\nBriefing: 2:30 PM\nFlag line: 2:50 PM \nFlag line will come down at the conclusion of military honors.\n\n \nFlags & Water:\n\nFlags Will Be Provided\n\nLarge Bike Flags will NOT be needed\n\nWater will be provided.\n\n\nSubmitted By: John Moffitt\nPosition: Assistant State Captain \n[HR][/HR]\nNote:\nYou do not have to own/ride a motorcycle or be a Veteran to join and membership is Free. The only requirement is RESPECT! To join\, simply go to www.PatriotGuard.org and click on Register. Membership is Free. \nTo subscribe to receive mission notices\, log into the National Site and click on the Mission Tab at the top. Select Upcoming Missions by State. Scroll to the state(s) you would like to receive notices for and click on the green check mark. Detailed instructions are also located in the FAQs on the site by clicking on the Quick Links Tab and selecting FAQs.
URL:https://www.patriotguard.org/mission/edwin-quesinberry-retired-usn-usnr-korea/
END:VEVENT
END:VCALENDAR