BEGIN:VCALENDAR
VERSION:2.0
PRODID:-//Patriot Guard Riders - ECPv5.3.2.1//NONSGML v1.0//EN
CALSCALE:GREGORIAN
METHOD:PUBLISH
X-WR-CALNAME:Patriot Guard Riders
X-ORIGINAL-URL:https://www.patriotguard.org
X-WR-CALDESC:Events for Patriot Guard Riders
BEGIN:VTIMEZONE
TZID:America/New_York
BEGIN:DAYLIGHT
TZOFFSETFROM:-0500
TZOFFSETTO:-0400
TZNAME:EDT
DTSTART:20140309T070000
END:DAYLIGHT
BEGIN:STANDARD
TZOFFSETFROM:-0400
TZOFFSETTO:-0500
TZNAME:EST
DTSTART:20141102T060000
END:STANDARD
END:VTIMEZONE
BEGIN:VEVENT
DTSTART;TZID=America/New_York:20140115T090000
DTEND;TZID=America/New_York:20140115T110000
DTSTAMP:20210401T164624
CREATED:20140115T140000Z
LAST-MODIFIED:20191201T134612Z
UID:404323-1389776400-1389783600@www.patriotguard.org
SUMMARY:Edwin N Carpenter\, Jr\, USN\, WWII Veteran
DESCRIPTION:The Family Of Edwin Nelson Carpenter Jr. has requested the presence of The Patriot Guard at his EOW.\nMr. Edwin Carpenter served in WWII in The United States Navy in Kaneohe Bay HI from 1941 -1945. He was an Aviation Gunners Mate. \nMass:\nThe family will arrive @ 9:30am\n10:00am January\, 15th 2014\nBarrett Cotter Funeral Home\n1328 Warwick Ave\, Warwick \nInterment: \n10:45am\nSt Pauls Lutheran Cemetery\n389 Greenwich Ave\, Warwick. \nStaging:\n9am – KSU 910 am\nAnn N Hope 1689 Post Rd\, Warwick . \nRC: Dan  Metivier \nFlags will be onsite \nBarbara “Wolfy” Dardeen\nRhode Island State Captain\nwolfee6102888@yahoo.com
URL:https://www.patriotguard.org/mission/edwin-n-carpenter-jr-usn-wwii-veteran/
CATEGORIES:Archive
END:VEVENT
END:VCALENDAR