BEGIN:VCALENDAR
VERSION:2.0
PRODID:-//Patriot Guard Riders - ECPv5.3.2.1//NONSGML v1.0//EN
CALSCALE:GREGORIAN
METHOD:PUBLISH
X-WR-CALNAME:Patriot Guard Riders
X-ORIGINAL-URL:https://www.patriotguard.org
X-WR-CALDESC:Events for Patriot Guard Riders
BEGIN:VTIMEZONE
TZID:America/New_York
BEGIN:DAYLIGHT
TZOFFSETFROM:-0500
TZOFFSETTO:-0400
TZNAME:EDT
DTSTART:20210314T070000
END:DAYLIGHT
BEGIN:STANDARD
TZOFFSETFROM:-0400
TZOFFSETTO:-0500
TZNAME:EST
DTSTART:20211107T060000
END:STANDARD
END:VTIMEZONE
BEGIN:VEVENT
DTSTART;VALUE=DATE:20210401
DTEND;VALUE=DATE:20210402
DTSTAMP:20210402T044415
CREATED:20210330T110431Z
LAST-MODIFIED:20210330T110431Z
UID:573276-1617235200-1617321599@www.patriotguard.org
SUMMARY:Edward P. Valenzuela
DESCRIPTION:Honor Mission\nEdward P. Valenzuela\, Veteran\nARNG\nLas Cruces\, New Mexico – 04-01-21\n\n\n\n\nABOUT THE MISSION: \nEdward P. Valenzuela served in the New Mexico National Guard from July of 1969 until July of 1977. He served as an Auto Mechanic and obtained the rank of Specialist 4 (E-4). During his service he was awarded the National Defense Service Ribbon and the Army’s Sharpshooter badge for the M-14.\n\n\nPRIMARY STAGING DETAILS: 04-01-21 \nStaging Time: 9:00 AM \nSt. Genevieve’s Catholic Church\n100 E. Espina St.\nLas Cruces\, New Mexico 88001\n\n\nRide Captain: \nVaughn “Jumpstart” Nelson\n(915) 667-9992\nnelsonv77689@yahoo.com\n\n\nSpecial Instructions: \nFlag line only mission.\n\nBriefing: 9:15 AM\nFlag line established at approximately 9:30 AM for the arrival of people to the visitation and service.\nMilitary Honors will be rendered by the Las Cruces Marine Corps League.\nFlagline will stand from 0930 and until Military Honors are completed.\nThere will be no interment at this time.\nAll COVID protocols will be observed at all time.\nPlease publish this mission to Southern New Mexico and Far West Texas Patriot Guard Groups.\n\n\nFlags & Water:\nFlags will be provided\nLarge Bike Flags will NOT be needed.\nWater will be provided.\n\n\n\nSubmitted By: Bobby Jakcsy \nPosition: New Mexico Ride Captain \n\nNote: You do not have to own/ride a motorcycle or be a veteran to join\, and membership is Free. The only requirement is RESPECT! To subscribe to receive mission notices\, log into the National Site and click on the Members tab at the top. Select the Subscribe to PGR Missions option.\n Print This Page
URL:https://www.patriotguard.org/mission/edward-p-valenzuela/
CATEGORIES:Honor Mission
END:VEVENT
END:VCALENDAR