BEGIN:VCALENDAR
VERSION:2.0
PRODID:-//Patriot Guard Riders - ECPv5.3.2.1//NONSGML v1.0//EN
CALSCALE:GREGORIAN
METHOD:PUBLISH
X-WR-CALNAME:Patriot Guard Riders
X-ORIGINAL-URL:https://www.patriotguard.org
X-WR-CALDESC:Events for Patriot Guard Riders
BEGIN:VTIMEZONE
TZID:America/New_York
BEGIN:DAYLIGHT
TZOFFSETFROM:-0500
TZOFFSETTO:-0400
TZNAME:EDT
DTSTART:20190310T070000
END:DAYLIGHT
BEGIN:STANDARD
TZOFFSETFROM:-0400
TZOFFSETTO:-0500
TZNAME:EST
DTSTART:20191103T060000
END:STANDARD
END:VTIMEZONE
BEGIN:VEVENT
DTSTART;VALUE=DATE:20190625
DTEND;VALUE=DATE:20190626
DTSTAMP:20210405T052016
CREATED:20190624T210733Z
LAST-MODIFIED:20190624T210733Z
UID:165495-1561420800-1561507199@www.patriotguard.org
SUMMARY:Edward Mack Weiner
DESCRIPTION:Honor Mission\nEdward Mack Weiner\, Veteran\nUS Army\nSt. Louis\, Missouri – 06-25-19\n\n\n\n\nABOUT THE MISSION: \nThe Patriot Guard Riders have been requested by the family to stand a flag line of honor and respect for their loved one\, Army Veteran Edward Mack Weiner\, 81 years old\, and escort him to the hallowed grounds of Jefferson Barracks National Cemetery where he will receive full military honors.  PFC Weiner proudly served his country from December 1955 to December 1958.  Hero Weiner\, a grateful nation thanks you and is indebted to you for your honorable service. Your sacrifices have granted us the freedoms we continue to enjoy to this very day. Thank you and Godspeed\n\n\nPRIMARY STAGING DETAILS: 06-25-19 \nStaging Time: 8:50 AM  \nKutis South County Funeral Home\n5255 Lemay Ferry Road\nSt. Louis\, Missouri 63129\n\n\nRide Captain: \nDan (TOP) Parnell\n314-691-8076\ndanparnell@sbcglobal.net\n\n\nSpecial Instructions: \n8:50  AM:  Staging w/ ride meeting to follow.\n9:00  AM:  Flag line\n10:00 AM:  Funeral Service\n10:40 AM:  Honor Escort\n11:00 AM:  Military Honors at Jefferson Barracks.  Weather for Tuesday –  87 degrees and sunny.  Cages are always welcome.  Flag Support: Jim (GunShy) Kleszczewski.\n\nFlags & Water:\nFlags will be provided\nIf you have large bike flags\, please bring them.\nWater will be provided.\n\n\n\n\nSubmitted By: Dan Parnell \nPosition: Missouri Ride Captain \n\nNote: You do not have to own/ride a motorcycle or be a veteran to join\, and membership is Free. The only requirement is RESPECT! To subscribe to receive mission notices\, log into the National Site and click on the Members tab at the top. Select the Subscribe to PGR Missions option.\n Print This Page
URL:https://www.patriotguard.org/mission/edward-mack-weiner/
CATEGORIES:Honor Mission
END:VEVENT
END:VCALENDAR