BEGIN:VCALENDAR
VERSION:2.0
PRODID:-//Patriot Guard Riders - ECPv5.3.2.1//NONSGML v1.0//EN
CALSCALE:GREGORIAN
METHOD:PUBLISH
X-WR-CALNAME:Patriot Guard Riders
X-ORIGINAL-URL:https://www.patriotguard.org
X-WR-CALDESC:Events for Patriot Guard Riders
BEGIN:VTIMEZONE
TZID:America/New_York
BEGIN:DAYLIGHT
TZOFFSETFROM:-0500
TZOFFSETTO:-0400
TZNAME:EDT
DTSTART:20190310T070000
END:DAYLIGHT
BEGIN:STANDARD
TZOFFSETFROM:-0400
TZOFFSETTO:-0500
TZNAME:EST
DTSTART:20191103T060000
END:STANDARD
END:VTIMEZONE
BEGIN:VEVENT
DTSTART;VALUE=DATE:20190927
DTEND;VALUE=DATE:20190929
DTSTAMP:20210401T091221
CREATED:20190925T232530Z
LAST-MODIFIED:20190925T232530Z
UID:176737-1569542400-1569715199@www.patriotguard.org
SUMMARY:Edward Lane Tietsort
DESCRIPTION:Honor Mission\nEdward Lane Tietsort\, Veteran\nUSA – WWII\nMacon\, Missouri – 09-27-19\n\n\n\nABOUT THE MISSION: \nThe family of Edward Lane Tietsort has requested the Patriot Guard Riders stand a silent and respectful flag line for the loved one. Mr.Tietsort served from July 10\, 1946 to December 26\, 1947 as a SGT in the U.S. Army during WWII. Mr. Tietsort graduated from the University of Missouri and retired from Unionville school as a school teacher. Mr. Tietsort also farmed and was a member of the Masonic Lodge and was a Shiner. Visitation will be from 5:00 PM to 7:00 PM on Friday and the Funeral Service will be at 10:00 AM Saturday.\n\n\nPRIMARY STAGING DETAILS: 09-27-19 \nStaging Time: 4:30 PM\n \nHutton-McElwain Funeral Home\n301 N. Rubey St.\nMacon\, Missouri 63552\n\n\nRide Captain: \nChris Raymer\n660-346-1280\nbigpig866@gmail.com\n\n\nSpecial Instructions: \nPlease stage at 4:30 PM for staking of flags and briefing. Come and go as you please.\nVisitation is 5:00 PM to 7:00 PM.\nTemp. in the mid 70’s and 60 to 80% chance of rain.\n\n\nFlags & Water:\nFlags will be provided\nLarge Bike Flags will NOT be needed.\nWater will be provided.\n\nSTAGING #2 DETAILS: 09-28-19 \nStaging Time: 09:30 AM\n \nHutton-McElwain Funeral Home\n301 N. Rubey St.\nMacon\, Missouri 63552\n\n\nRide Captain: \nChris Raymer\n660-346-1280\nbigpig866@gmail.com\n\n\nSpecial Instructions: \nPlease stage at 9:30 AM for staking of flags and briefing.\nThis is a flag line only. No Escort.\nTemp. will be in the lower 60’s with a 50% chance of rain.\n\n\nFlags & Water:\nFlags will be provided\nLarge Bike Flags will NOT be needed.\nWater WILL NOT be provided\, please bring your own.\n\n\n\nSubmitted By: Chris Raymer \nPosition: Missouri Ride Captain \n\nNote: You do not have to own/ride a motorcycle or be a veteran to join\, and membership is Free. The only requirement is RESPECT! To subscribe to receive mission notices\, log into the National Site and click on the Members tab at the top. Select the Subscribe to PGR Missions option.\n Print This Page
URL:https://www.patriotguard.org/mission/edward-lane-tietsort/
CATEGORIES:Honor Mission
END:VEVENT
END:VCALENDAR