BEGIN:VCALENDAR
VERSION:2.0
PRODID:-//Patriot Guard Riders - ECPv5.6.0//NONSGML v1.0//EN
CALSCALE:GREGORIAN
METHOD:PUBLISH
X-WR-CALNAME:Patriot Guard Riders
X-ORIGINAL-URL:https://www.patriotguard.org
X-WR-CALDESC:Events for Patriot Guard Riders
BEGIN:VTIMEZONE
TZID:America/New_York
BEGIN:DAYLIGHT
TZOFFSETFROM:-0500
TZOFFSETTO:-0400
TZNAME:EDT
DTSTART:20210314T070000
END:DAYLIGHT
BEGIN:STANDARD
TZOFFSETFROM:-0400
TZOFFSETTO:-0500
TZNAME:EST
DTSTART:20211107T060000
END:STANDARD
END:VTIMEZONE
BEGIN:VEVENT
DTSTART;VALUE=DATE:20210511
DTEND;VALUE=DATE:20210512
DTSTAMP:20210511T124436
CREATED:20210509T180814Z
LAST-MODIFIED:20210509T180814Z
UID:576900-1620691200-1620777599@www.patriotguard.org
SUMMARY:Edward L. Mason
DESCRIPTION:Honor Mission\nCpl. Edward L. Mason\, Veteran\nUSMC –\nLoxley\, Alabama – 05-11-21\n\n\n\nABOUT THE MISSION: \nThe family of Cpl. Edward L. Mason has requested we stand tall and in a silent flag line of respect and honor during the services of their loved one. Cpl. Mason passed away April 29\, 2021 at the age of 79.  Cpl. Mason served in the U.S. Marine Corp for 3 years\, 11 months and 14 days and received an Honorable Discharge. Cpl. Mason was awarded the Good Conduct Medal; no other awards or medals are known at this time.\n\n\nPRIMARY STAGING DETAILS: 05-11-21 \nStaging Time: 12:45 PM\n \nRaceway gas station\nIntersection of I-10 and Highway 59\, south side\, Exit 44.\nLoxley\, Alabama 36551\n\n\nRide Captain: \nEd (JuJu) Lessard\n(251) 978-6215\nchromedome43@hotmail.com\n\n\nSpecial Instructions: \nTime:  12:45 PM\nBriefing: 1:00 pm\nKSU: 1:15 pm\n\n\nFlags & Water:\nFlags will be provided\nIf you have large bike flags\, please bring them.\nWater WILL NOT be provided\, please bring your own.\n\n\nSubmitted By: Frank Cole \nPosition: Alabama Ride Captain \n\nNote: You do not have to own/ride a motorcycle or be a veteran to join\, and membership is Free. The only requirement is RESPECT! To subscribe to receive mission notices\, log into the National Site and click on the Members tab at the top. Select the Subscribe to PGR Missions option.\n Print This Page
URL:https://www.patriotguard.org/mission/edward-l-mason/
CATEGORIES:Honor Mission
END:VEVENT
END:VCALENDAR