BEGIN:VCALENDAR
VERSION:2.0
PRODID:-//Patriot Guard Riders - ECPv5.3.2.1//NONSGML v1.0//EN
CALSCALE:GREGORIAN
METHOD:PUBLISH
X-WR-CALNAME:Patriot Guard Riders
X-ORIGINAL-URL:https://www.patriotguard.org
X-WR-CALDESC:Events for Patriot Guard Riders
BEGIN:VTIMEZONE
TZID:America/New_York
BEGIN:DAYLIGHT
TZOFFSETFROM:-0500
TZOFFSETTO:-0400
TZNAME:EDT
DTSTART:20190310T070000
END:DAYLIGHT
BEGIN:STANDARD
TZOFFSETFROM:-0400
TZOFFSETTO:-0500
TZNAME:EST
DTSTART:20191103T060000
END:STANDARD
END:VTIMEZONE
BEGIN:VEVENT
DTSTART;VALUE=DATE:20190809
DTEND;VALUE=DATE:20190810
DTSTAMP:20210402T094951
CREATED:20190809T140146Z
LAST-MODIFIED:20190809T140146Z
UID:169854-1565308800-1565395199@www.patriotguard.org
SUMMARY:Edward Junior Watt
DESCRIPTION:Honor Mission\nEdward Junior Watt\, Veteran\nUSA – WWII\nTahlequah\, Oklahoma – 08-09-19\n\n\n\nABOUT THE MISSION: \nThe family of PFC Edward Junior Watt has requested the PGR stand a flag line at his service and accompany their Hero from to Ft. Gibson National Cemetery. U.S. Army will perform honors at FGNC\, PFC Watt was in the Pacific theater India Burma\, Central Burma and receieved two Bronze Stars\, Eddie was also a Law Enforcement Officer.\n\n\nPRIMARY STAGING DETAILS: 08-09-19 \nStaging Time: 8:00 am  \nReed-Culver Funeral Home\n117 W Delaware St\,\nTahlequah\, Oklahoma\n\n\nRide Captain: \nDan “Big D” Koehling\ndan.koehling@cox.net\n918-810-8820\n\n\nSpecial Instructions: \nBriefing: 8:15AM\nManditory to accompany Hero!\nFlag Line to follow.\nWeather: 89°/74° 30% chance\n\n\nFlags & Water:\nFlags will be provided\nIf you have large bike flags\, please bring them.\nWater WILL NOT be provided\, please bring your own.\n\nSubmitted By: Richard Fawcett \nPosition: Oklahoma Assistant State Captain \n\nNote: You do not have to own/ride a motorcycle or be a veteran to join\, and membership is Free. The only requirement is RESPECT! To subscribe to receive mission notices\, log into the National Site and click on the Members tab at the top. Select the Subscribe to PGR Missions option.\n Print This Page
URL:https://www.patriotguard.org/mission/edward-junior-watt/
CATEGORIES:Honor Mission
END:VEVENT
END:VCALENDAR