BEGIN:VCALENDAR
VERSION:2.0
PRODID:-//Patriot Guard Riders - ECPv5.3.2.1//NONSGML v1.0//EN
CALSCALE:GREGORIAN
METHOD:PUBLISH
X-WR-CALNAME:Patriot Guard Riders
X-ORIGINAL-URL:https://www.patriotguard.org
X-WR-CALDESC:Events for Patriot Guard Riders
BEGIN:VTIMEZONE
TZID:America/New_York
BEGIN:DAYLIGHT
TZOFFSETFROM:-0500
TZOFFSETTO:-0400
TZNAME:EDT
DTSTART:20190310T070000
END:DAYLIGHT
BEGIN:STANDARD
TZOFFSETFROM:-0400
TZOFFSETTO:-0500
TZNAME:EST
DTSTART:20191103T060000
END:STANDARD
END:VTIMEZONE
BEGIN:VEVENT
DTSTART;VALUE=DATE:20190702
DTEND;VALUE=DATE:20190703
DTSTAMP:20210404T035258
CREATED:20190629T010227Z
LAST-MODIFIED:20190629T010227Z
UID:166214-1562025600-1562111999@www.patriotguard.org
SUMMARY:Edward James Dunn
DESCRIPTION:Honor Mission\nEdward James Dunn\, Retired\nUSA – GW/ODS\nVine Grove\, Kentucky – 07-02-19\n\n\n\nABOUT THE MISSION: \nKentucky has lost another brother\, Edward James Dunn\, SGM\, US Army\, Desert Storm Veteran. We have been invited by the family to stand in his honor. He served our country with courage and honor in the United States Army. It is now our honor to stand for him at the Kentucky Veterans Cemetery Central.\n**ALL TIMES: Eastern Time**\n\n\nPRIMARY STAGING DETAILS: 07-02-19 \nStaging Time: 09:00  \nChism Family Funeral Home769 Highland Avenue\nVine Grove\, Kentucky 40175\n\n\nRide Captain: \nEdwin (Ed) Hartsell\nedwinhartsell@hotmail.com\n\nAsst: James (Danny) Johnson\, roughriverdan@yahoo.com\n\n\nSpecial Instructions: \n09:00 Stage for Escort to KVCC\n09:30 Escort to: Kentucky Veterans Cemetery Central (KVCC)\, 2501 North Dixie Boulevard\, Radcliff\, KY 40160.\n09:30 Stage and Stake Flags\n10:00 Committal Service Begins.\nWater will be provided\, arrive hydrated\, be prepared for the Hot and/or wet weather conditions.\nPlease stage at the main building to the right as you enter the Cemetery and move forward as requested by the Ride Captain. This will ensure we do not disturb any other services taking place.\n\n\nFlags & Water:\nFlags will be provided\nIf you have large bike flags\, please bring them.\nWater will be provided.\n\n\n\nSubmitted By: James Johnson \nPosition: Kentucky Ride Captain \n\nNote: You do not have to own/ride a motorcycle or be a veteran to join\, and membership is Free. The only requirement is RESPECT! To subscribe to receive mission notices\, log into the National Site and click on the Members tab at the top. Select the Subscribe to PGR Missions option.\n Print This Page
URL:https://www.patriotguard.org/mission/edward-james-dunn/
CATEGORIES:Honor Mission
END:VEVENT
END:VCALENDAR