BEGIN:VCALENDAR
VERSION:2.0
PRODID:-//Patriot Guard Riders - ECPv5.3.2.1//NONSGML v1.0//EN
CALSCALE:GREGORIAN
METHOD:PUBLISH
X-WR-CALNAME:Patriot Guard Riders
X-ORIGINAL-URL:https://www.patriotguard.org
X-WR-CALDESC:Events for Patriot Guard Riders
BEGIN:VTIMEZONE
TZID:America/New_York
BEGIN:DAYLIGHT
TZOFFSETFROM:-0500
TZOFFSETTO:-0400
TZNAME:EDT
DTSTART:20190310T070000
END:DAYLIGHT
BEGIN:STANDARD
TZOFFSETFROM:-0400
TZOFFSETTO:-0500
TZNAME:EST
DTSTART:20191103T060000
END:STANDARD
END:VTIMEZONE
BEGIN:VEVENT
DTSTART;VALUE=DATE:20190810
DTEND;VALUE=DATE:20190811
DTSTAMP:20210402T071450
CREATED:20190809T155425Z
LAST-MODIFIED:20190809T155425Z
UID:170216-1565395200-1565481599@www.patriotguard.org
SUMMARY:Edward Hebert
DESCRIPTION:Honor Mission\nEdward Hebert\, Veteran\nUSN – Korea\nAbbeville\, Louisiana – 08-10-19\n\n\n\nABOUT THE MISSION: \nThe family of Mr. Hebert has requested the Patriot Guard honor their loved one and veteran. Mr. Hebert served in the United States Navy for 4 years during the Korean War.\n\n\nPRIMARY STAGING DETAILS: 08-10-19 \nStaging Time: 9:45 am  \nVincent Funeral Home\n209 S. Saint Charles St.\nAbbeville\, Louisiana\n\n\nRide Captain: \nRobert Lebon\n337-356-4579\n\n\nSpecial Instructions: \n9:45 a.m. : Staging\n10:00 a.m.: Visitation\n12:30 p.m.: Services\n\nRobert Lebon will be acting Ride Captain. It will be determined at Mission if LEO is present for escort.\n\n\nFlags & Water:\nFlags will be provided\nIf you have large bike flags\, please bring them.\nWater WILL NOT be provided\, please bring your own.\n\nSubmitted By: Doug Nobles \nPosition: Louisiana State Captain \n\nNote: You do not have to own/ride a motorcycle or be a veteran to join\, and membership is Free. The only requirement is RESPECT! To subscribe to receive mission notices\, log into the National Site and click on the Members tab at the top. Select the Subscribe to PGR Missions option.\n Print This Page
URL:https://www.patriotguard.org/mission/edward-hebert/
CATEGORIES:Honor Mission
END:VEVENT
END:VCALENDAR