BEGIN:VCALENDAR
VERSION:2.0
PRODID:-//Patriot Guard Riders - ECPv5.3.2.1//NONSGML v1.0//EN
CALSCALE:GREGORIAN
METHOD:PUBLISH
X-WR-CALNAME:Patriot Guard Riders
X-ORIGINAL-URL:https://www.patriotguard.org
X-WR-CALDESC:Events for Patriot Guard Riders
BEGIN:VTIMEZONE
TZID:America/New_York
BEGIN:DAYLIGHT
TZOFFSETFROM:-0500
TZOFFSETTO:-0400
TZNAME:EDT
DTSTART:20190310T070000
END:DAYLIGHT
BEGIN:STANDARD
TZOFFSETFROM:-0400
TZOFFSETTO:-0500
TZNAME:EST
DTSTART:20191103T060000
END:STANDARD
END:VTIMEZONE
BEGIN:VEVENT
DTSTART;VALUE=DATE:20190906
DTEND;VALUE=DATE:20190907
DTSTAMP:20210401T022332
CREATED:20190905T103548Z
LAST-MODIFIED:20190905T103548Z
UID:172819-1567728000-1567814399@www.patriotguard.org
SUMMARY:Edward Heath
DESCRIPTION:Honor Mission\nEdward Heath\, Retired\nUSA – GW/ODS\, WoT\nClarksville\, Tennessee – 09-06-19\n\n\n\nABOUT THE MISSION: \nSFC (retired) Edward Heath served in the US Army for 25 years from 1987 until 2012. His awards include a Bronze Star Medal.\n\n\nPRIMARY STAGING DETAILS: 09-06-19 \nStaging Time: 09:30 AM\n \nSykes Funeral Home\n424 Franklin St.\nClarksville\, Tennessee 37040\n\n\nRide Captain: \nDavid Westhorp\nredtag@patriotguard.org\n(615) 330-5340\n\n\nSpecial Instructions: \nPGR will stand a flag line during visitation from 11 AM until the funeral service at 12 noon.\nFollowing the service there will be an escort to Kentucky West Veterans Cemetery.\n\n\nFlags & Water:\nFlags will be provided\nIf you have large bike flags\, please bring them.\nWater WILL NOT be provided\, please bring your own.\n\n\n\nSubmitted By: David Westhorp \nPosition: Tennessee State Captain \n\nNote: You do not have to own/ride a motorcycle or be a veteran to join\, and membership is Free. The only requirement is RESPECT! To subscribe to receive mission notices\, log into the National Site and click on the Members tab at the top. Select the Subscribe to PGR Missions option.\n Print This Page
URL:https://www.patriotguard.org/mission/edward-heath/
CATEGORIES:Honor Mission
END:VEVENT
END:VCALENDAR