BEGIN:VCALENDAR
VERSION:2.0
PRODID:-//Patriot Guard Riders - ECPv5.6.0//NONSGML v1.0//EN
CALSCALE:GREGORIAN
METHOD:PUBLISH
X-WR-CALNAME:Patriot Guard Riders
X-ORIGINAL-URL:https://www.patriotguard.org
X-WR-CALDESC:Events for Patriot Guard Riders
BEGIN:VTIMEZONE
TZID:America/New_York
BEGIN:DAYLIGHT
TZOFFSETFROM:-0500
TZOFFSETTO:-0400
TZNAME:EDT
DTSTART:20090308T070000
END:DAYLIGHT
BEGIN:STANDARD
TZOFFSETFROM:-0400
TZOFFSETTO:-0500
TZNAME:EST
DTSTART:20091101T060000
END:STANDARD
END:VTIMEZONE
BEGIN:VEVENT
DTSTART;TZID=America/New_York:20090417T090000
DTEND;TZID=America/New_York:20090417T110000
DTSTAMP:20210511T125235
CREATED:20090417T130000Z
LAST-MODIFIED:20191201T112244Z
UID:378507-1239958800-1239966000@www.patriotguard.org
SUMMARY:Edward H. Calhoun\, 91\, USA WW II Veteran
DESCRIPTION:Updated 15 Apr 09 1112 edt S Sturgis \nWWII Army Veteran Edward H. Calhoun\, 91\, Mansfield MA -17 April 09 \n        \n        STAGING:        Friday\, 17 April 09 \n                Cape Cod Harley-Davidson\n                750 MacArthur Blvd (Rte 28)\n                Pocasset\, MA 02259\n                 \n        http://shrunklink.com/cckz \n        TIME: 8:45 – 9:55 AM\n        \n        BRIEFING:  9:55 AM \n        KSU:  10:00 AM \n        Ride Captain: Howard Shrut  hshrut@rcn.com \n \n        \nHoward Shrut\nAssistant State Captain\nhshrut@rcn.com \n__________________________________________________________________ \nConfirmed Mission – WWII Army Veteran Edward H. Calhoun\,\n91\, Mansfield MA -17 April 09 \n\nThe family\, including son and PGR member Ed Calhoun Jr \, has\nrequested our presence at the service for their loved one\,  WWII Army\nVeteran Edward H. Calhoun. The service is to be held at the\nMassachusetts National Cemetery in Bourne. \nFor planning purposes\, the service is to commence at 10:30 AM\non Friday\, 17 April 09 \nDetails to follow\n— \nHoward Shrut\nAssistant State Captain\nhshrut@rcn.com
URL:https://www.patriotguard.org/mission/edward-h-calhoun-91-usa-ww-ii-veteran/
CATEGORIES:Archive
END:VEVENT
END:VCALENDAR