BEGIN:VCALENDAR
VERSION:2.0
PRODID:-//Patriot Guard Riders - ECPv5.6.0//NONSGML v1.0//EN
CALSCALE:GREGORIAN
METHOD:PUBLISH
X-WR-CALNAME:Patriot Guard Riders
X-ORIGINAL-URL:https://www.patriotguard.org
X-WR-CALDESC:Events for Patriot Guard Riders
BEGIN:VTIMEZONE
TZID:America/New_York
BEGIN:DAYLIGHT
TZOFFSETFROM:-0500
TZOFFSETTO:-0400
TZNAME:EDT
DTSTART:20160313T070000
END:DAYLIGHT
BEGIN:STANDARD
TZOFFSETFROM:-0400
TZOFFSETTO:-0500
TZNAME:EST
DTSTART:20161106T060000
END:STANDARD
END:VTIMEZONE
BEGIN:VEVENT
DTSTART;TZID=America/New_York:20160623T090000
DTEND;TZID=America/New_York:20160623T110000
DTSTAMP:20210513T175349
CREATED:20160623T130000Z
LAST-MODIFIED:20191201T144912Z
UID:411117-1466672400-1466679600@www.patriotguard.org
SUMMARY:Edward Franklin Jones\, USA Veteran / Miami
DESCRIPTION:The family of PFC Edward Franklin Jones\, US Army Veteran\, has requested the PGR to assist in honoring their loved one. This will be a escort from Paul Thomas Funeral home\, 1432 B street NW\, Miami\, OK\, to Hickory Grove Cemetery for 10:30 Thursday 23 Jun 2016 Graveside Services\, cemetery is just north of Grove\, OK.  American Legion Post 147 will perform Military Honors. \nDate:  Thursday 23 June 2016 \nStaging:  09:00 Paul Thomas West parking lot \nMandatory Briefing:  09:15  Must attend briefing to ride escort! \nRespect line:  09:30 to move Hero to coach \nKSU:  09:45 escort to Hickory Grove. \nRCIC:\nDick ”Kickstand” Fawcett\n918-782-7661 \nARC:\nRandy Dixon\n918-533-3409
URL:https://www.patriotguard.org/mission/edward-franklin-jones-usa-veteran-miami/
CATEGORIES:Archive
END:VEVENT
END:VCALENDAR