BEGIN:VCALENDAR
VERSION:2.0
PRODID:-//Patriot Guard Riders - ECPv5.3.2.1//NONSGML v1.0//EN
CALSCALE:GREGORIAN
METHOD:PUBLISH
X-WR-CALNAME:Patriot Guard Riders
X-ORIGINAL-URL:https://www.patriotguard.org
X-WR-CALDESC:Events for Patriot Guard Riders
BEGIN:VTIMEZONE
TZID:America/New_York
BEGIN:DAYLIGHT
TZOFFSETFROM:-0500
TZOFFSETTO:-0400
TZNAME:EDT
DTSTART:20190310T070000
END:DAYLIGHT
BEGIN:STANDARD
TZOFFSETFROM:-0400
TZOFFSETTO:-0500
TZNAME:EST
DTSTART:20191103T060000
END:STANDARD
END:VTIMEZONE
BEGIN:VEVENT
DTSTART;VALUE=DATE:20190803
DTEND;VALUE=DATE:20190804
DTSTAMP:20210402T125800
CREATED:20190802T022529Z
LAST-MODIFIED:20190802T022643Z
UID:169338-1564790400-1564876799@www.patriotguard.org
SUMMARY:Edward Eugene Boulanger
DESCRIPTION:Honor Mission\nEdward Eugene Boulanger\, Veteran\nUSA\, ARNG – Korea\nPawhuska\, Oklahoma – 08-03-19\n\n\n \n\nABOUT THE MISSION: \nThe Family of Cpl Edward Eugene Boulanger US Army\, Korean War Veteran has asked the PGR to accompany their Hero from the family home to the Family Cemetery for final interment.   The Boulanger family name is one of the early pioneer families of the Osage Nation area and has quite a history\, extensive and prominent in both traditional business as well as Indian affairs.  US Army will perform military Honors and PGR will present the Plaque and Letter at the cemetery.\n\n\nPRIMARY STAGING DETAILS: 08-03-19 \nStaging Time: 9:10 am\n \nCasey’s\nUS 60 and SH 11 Junction\nPawhuska\, Oklahoma\n\n\nRide Captain: \nPaul Moore\nconjob01@sbcglobal.net\n918.381.4305\n\n\nSpecial Instructions: \nBriefing: 9:20AM\nMust attend briefing to accompany family!\nKSU: 9:30AM\nWeather:81°/66° 40% chance\n\nFlags & Water:\nFlags will be provided\nIf you have large bike flags\, please bring them.\nWater WILL NOT be provided\, please bring your own.\n\n\n\nSubmitted By: Richard Fawcett \nPosition: Oklahoma Assistant State Captain \n\nNote: You do not have to own/ride a motorcycle or be a veteran to join\, and membership is Free. The only requirement is RESPECT! To subscribe to receive mission notices\, log into the National Site and click on the Members tab at the top. Select the Subscribe to PGR Missions option.\n Print This Page
URL:https://www.patriotguard.org/mission/edward-eugene-boulanger/
CATEGORIES:Honor Mission
END:VEVENT
END:VCALENDAR