BEGIN:VCALENDAR
VERSION:2.0
PRODID:-//Patriot Guard Riders - ECPv5.3.2.1//NONSGML v1.0//EN
CALSCALE:GREGORIAN
METHOD:PUBLISH
X-WR-CALNAME:Patriot Guard Riders
X-ORIGINAL-URL:https://www.patriotguard.org
X-WR-CALDESC:Events for Patriot Guard Riders
BEGIN:VTIMEZONE
TZID:America/New_York
BEGIN:DAYLIGHT
TZOFFSETFROM:-0500
TZOFFSETTO:-0400
TZNAME:EDT
DTSTART:20170312T070000
END:DAYLIGHT
BEGIN:STANDARD
TZOFFSETFROM:-0400
TZOFFSETTO:-0500
TZNAME:EST
DTSTART:20171105T060000
END:STANDARD
END:VTIMEZONE
BEGIN:VEVENT
DTSTART;TZID=America/New_York:20170221T150000
DTEND;TZID=America/New_York:20170221T170000
DTSTAMP:20210404T170849
CREATED:20170221T200000Z
LAST-MODIFIED:20191201T031143Z
UID:315925-1487689200-1487696400@www.patriotguard.org
SUMMARY:Edward Douglas Morse\, Retired\, USA - Vietnam
DESCRIPTION:LTC Edward Douglas Morse\, 76\, Retired \nUSA – Vietnam \nMULTI-CITY\, Florida – 21 Feb 2017\n\n[HR][/HR]\nABOUT THE MISSION: \nThe family LTC Edward Douglas Morse has graciously requested the Patriot Guard Rider’s presence as they show their final respects and lay their loved one to rest. \nLTC Morse faithfully served his Country in the U.S. Army and performed duties as Military Intelligence\, Inspector General\, Special Forces\, Green Beret\, Parachutist and in Psychological Operations. \nAmong numerous stateside assignments\, LTC Morse served overseas in Vietnam (two tours)\, Germany\, and Belgium. \nUpon completion of his service\, LTC Morse received an Honorable Discharge and awarded a Legion of Merit\, Bronze Star Medal W/ 3 OLC\, Defense Meritorious Service Medal\, National Defense Service Medal\, Vietnam Service Medal w/ 7 Bronze Stars\, Humanitarian Service Medal\, Armed Forces Reserve Medal\, Army service Ribbon\, Overseas Service Ribbon\, Republic of Vietnam Campaign Medal\, Combat Infantry Badge\, Parachutist Badge\, Aircraft Crewmember Badge\, Presidential Unit Citation\, Valorous Unit Award\, Meritorious Unit Commendation\, Republic of Vietnam Gallantry Cross w/ Palm and a Republic of Vietnam Civil Actions Medal First Class. \nThe U.S. Army will provide honors at the cemetery. \nNote: This is a two-part mission. \nPart 1 is a Funeral Service at the Funeral Home in Longwood\, followed by an escort (approximately 45 miles) to the Cemetery. \nPart 2 is a Committal Service at Cape Canaveral National Cemetery\, Mims. \nPlease bring your 3 X 5 American Flags and join us as we stand in silent Honor and Respect for our U.S. Army Vietnam Hero and his family. \nPRIMARY STAGING DETAILS: 21 Feb 2017 \n \nPrimary Staging Time: 1200 P.M.\n\nNewcomers Funeral Chapel\n335 E SR 434\n\nLongwood\, Florida – 32750\n\n\nhttps://goo.gl/HNMkNX\n\n \nRide Captain:\n\nBernie “Dutchman” Conner\nBc17004@aol.com\n407-415-6162\n\n \nSpecial Instructions:\n\n1200 hrs – Stage\n1215 hrs – Brief\n1300 hrs – Service\nEscort KSU – 1330 hrs (or as determined by Funeral Director)\n\n \nFlags & Water:\n\nFlags Will NOT Be Provided\, Please Bring Your Own.\n\nLarge Bike Flags will NOT be needed.\n\nWater WILL NOT be provided\, please bring your own.\n\n\n[HR][/HR]\nSTAGING #2 DETAILS: 21 Feb\, 2017 \n \nStaging #2 Time: 1400 P.M.\n\nCape Canaveral National Cemetery\n5525 US 1\n\nMims\, Florida – 32754\n\n\nhttps://goo.gl/i5AfpX\n\n \nRide Captain:\n\nBernie “Dutchman” Conner\nBc17004@aol.com\n407-415-6162\n\n \nSpecial Instructions:\n\n1400 hrs – Stage (or upon arrival of escort)\n1415 hrs – Brief\n1430 hrs – Service\nFlag Line – As determined by Ride Captain\n\n \nFlags & Water:\n\nFlags Will NOT Be Provided\, Please Bring Your Own.\n\nLarge Bike Flags will NOT be needed\n\nWater WILL NOT be provided\, please bring your own.\n\n\nSubmitted By: David Shelton\nPosition: Assistant State Captain \n[HR][/HR]\nNote:\nYou do not have to own/ride a motorcycle or be a Veteran to join and membership is Free. The only requirement is RESPECT! To join\, simply go to Patriot Guard website and click on Register. Membership is Free. \nTo subscribe to receive mission notices\, log into the National Site and click on the Mission Tab at the top. Select Upcoming Missions by State. Scroll to the state(s) you would like to receive notices for and click on the green check mark. Detailed instructions are also located in the FAQs on the site by clicking on the Quick Links Tab and selecting FAQs.
URL:https://www.patriotguard.org/mission/edward-douglas-morse-retired-usa-vietnam/
LOCATION:Christopher L Hutt
END:VEVENT
END:VCALENDAR