BEGIN:VCALENDAR
VERSION:2.0
PRODID:-//Patriot Guard Riders - ECPv5.6.0//NONSGML v1.0//EN
CALSCALE:GREGORIAN
METHOD:PUBLISH
X-WR-CALNAME:Patriot Guard Riders
X-ORIGINAL-URL:https://www.patriotguard.org
X-WR-CALDESC:Events for Patriot Guard Riders
BEGIN:VTIMEZONE
TZID:America/New_York
BEGIN:DAYLIGHT
TZOFFSETFROM:-0500
TZOFFSETTO:-0400
TZNAME:EDT
DTSTART:20160313T070000
END:DAYLIGHT
BEGIN:STANDARD
TZOFFSETFROM:-0400
TZOFFSETTO:-0500
TZNAME:EST
DTSTART:20161106T060000
END:STANDARD
END:VTIMEZONE
BEGIN:VEVENT
DTSTART;TZID=America/New_York:20160531T090000
DTEND;TZID=America/New_York:20160531T110000
DTSTAMP:20210513T150527
CREATED:20160531T130000Z
LAST-MODIFIED:20191201T145549Z
UID:411715-1464685200-1464692400@www.patriotguard.org
SUMMARY:Edward D. Turpin\, ANG Veteran - Firefighter / Muldrow\, OK
DESCRIPTION:SSgt Edward D. Turpin\nANG Veteran – Firefighter\nMuldrow\, OK\n31 May 16\n\n\n\nThe family of US Air National Guard Veteran SSgt Edward D. Turpin has asked the Patriot Guard Riders to stand a flag line at his funeral service scheduled for 1230 Hours on Tuesday\, 31 May 2016 at the First Assembly of God Church\, 200 W Sequoyah St\, Muldrow\, OK. \nUpon conclusion of the funeral service the PGR will escort this Hero and his family to Ft Smith National Cemetery\, 522 S 6th St\, Ft Smith\, AR\, for interment.  US Air National Guard Honor Detail will conduct Military Honors. Mr. Turpin was also a fire fighter for the state of Arkansas. \nDate:  Tuesday\, 31 May 2016 at 1230 Hours \nStaging:  1100 Hours\nFirst Assembly of God Church\n200 W Sequoyah St\nMuldrow\, OK \nMandatory Briefing:  1130 Hours\nYou MUST attend the briefing to ride in the escort \nFlag Line:  Immediately following the briefing \nWeather:  Temperature in the low 80s and 80% chance of rain during the mission.  Ride within your abilities!! \nNotes:  All groups\, clubs\, associations and riders are welcome to join us in Honoring SSgt Turpin. The only prerequisite is the utmost respect for this Hero and his family. The Priesthood will provide the “Last Ride Coach” for the escort. \nRCIC:\nMorris “Pike Pass” Noftsger\, SRC\nmorrisnoftsger@yahoo.com\n918.261.1197
URL:https://www.patriotguard.org/mission/edward-d-turpin-ang-veteran-firefighter-muldrow-ok/
CATEGORIES:Archive
END:VEVENT
END:VCALENDAR