BEGIN:VCALENDAR
VERSION:2.0
PRODID:-//Patriot Guard Riders - ECPv5.3.2.1//NONSGML v1.0//EN
CALSCALE:GREGORIAN
METHOD:PUBLISH
X-WR-CALNAME:Patriot Guard Riders
X-ORIGINAL-URL:https://www.patriotguard.org
X-WR-CALDESC:Events for Patriot Guard Riders
BEGIN:VTIMEZONE
TZID:America/New_York
BEGIN:DAYLIGHT
TZOFFSETFROM:-0500
TZOFFSETTO:-0400
TZNAME:EDT
DTSTART:20190310T070000
END:DAYLIGHT
BEGIN:STANDARD
TZOFFSETFROM:-0400
TZOFFSETTO:-0500
TZNAME:EST
DTSTART:20191103T060000
END:STANDARD
END:VTIMEZONE
BEGIN:VEVENT
DTSTART;VALUE=DATE:20190816
DTEND;VALUE=DATE:20190817
DTSTAMP:20210402T095613
CREATED:20190813T104350Z
LAST-MODIFIED:20190813T104501Z
UID:170687-1565913600-1565999999@www.patriotguard.org
SUMMARY:Edward Cotter
DESCRIPTION:Honor Mission\nEdward Cotter\, Retired\nUSAF\nSan Antonio\, Texas – 08-16-19\n\n\n\nABOUT THE MISSION: \nThe family of CMSgt. Edward G. Cotter\, US Air Force (Ret.)\, requests the presence and participation of the Patriot Guard Riders at the services\, LEO supported procession\, and graveside rendering of military honors of their loved one.  CMSgt. Cotter retired after 30 years of service.\n\n\nPRIMARY STAGING DETAILS: 08-16-19 \nStaging: 9:00 AM\n \nSt. Luke Catholic Church\n4603 Manitou Dr\nSan Antonio\, Texas 78228\nhttps://goo.gl/maps/4W6zwgR96bo\n\n\nRide Captain: \nTom “Tom Cat” Wilson\ntomcatwilson2019@gmail.com\n\n\nSpecial Instructions: \nStaging: 9:00 AM\nBriefing: 9:15 AM\nService: 10:00 AM\nKSU: 11:00 AM\nInterment: 11:30 AM\, Fort Sam Houston National Cemetery\, 1520 Harry Wurzbach Rd San Antonio\, TX 78209https://goo.gl/maps/ThiWmPirmtr\n\n\nFlags & Water:\nFlags will be provided\nIf you have large bike flags\, please bring them.\nWater will be provided.\n\nSubmitted By: Lisa Menard \nPosition: Texas Ride Captain \n\nNote: You do not have to own/ride a motorcycle or be a veteran to join\, and membership is Free. The only requirement is RESPECT! To subscribe to receive mission notices\, log into the National Site and click on the Members tab at the top. Select the Subscribe to PGR Missions option.\n Print This Page
URL:https://www.patriotguard.org/mission/edward-cotter/
CATEGORIES:Honor Mission
END:VEVENT
END:VCALENDAR