BEGIN:VCALENDAR
VERSION:2.0
PRODID:-//Patriot Guard Riders - ECPv5.3.2.1//NONSGML v1.0//EN
CALSCALE:GREGORIAN
METHOD:PUBLISH
X-WR-CALNAME:Patriot Guard Riders
X-ORIGINAL-URL:https://www.patriotguard.org
X-WR-CALDESC:Events for Patriot Guard Riders
BEGIN:VTIMEZONE
TZID:America/New_York
BEGIN:DAYLIGHT
TZOFFSETFROM:-0500
TZOFFSETTO:-0400
TZNAME:EDT
DTSTART:20190310T070000
END:DAYLIGHT
BEGIN:STANDARD
TZOFFSETFROM:-0400
TZOFFSETTO:-0500
TZNAME:EST
DTSTART:20191103T060000
END:STANDARD
END:VTIMEZONE
BEGIN:VEVENT
DTSTART;VALUE=DATE:20190726
DTEND;VALUE=DATE:20190728
DTSTAMP:20210404T022750
CREATED:20190724T013426Z
LAST-MODIFIED:20190724T013426Z
UID:168624-1564099200-1564271999@www.patriotguard.org
SUMMARY:Edward Cornelius Gaines Sr.
DESCRIPTION:Honor Mission\nEdward Cornelius Gaines Sr.\, Retired\, PGR\nUSA – Vietnam\nHuntsville\, Alabama – 07-26-19\n\n\n\nABOUT THE MISSION: \nThe family of Edward Cornelius Gaines Sr. have asked the Patriot Guard to honor their loved one by standing a silent flag line at his Visitation and Funeral Service with escort to his final resting place. We are Honored to do so. Ed stood for us\, now is the time to stand for him. Ed Gaines (72) was in the U S Army in Vietnam and served with distinction. Ed was an active member of the Patriot Guard Riders and a friend. We will all miss him.\n\n\nPRIMARY STAGING DETAILS: 07-26-19 \nStaging Time: 1:00 PM\n \nRoyal Funeral Home Chapel of Memories\n4315 Oakwood Ave\nHuntsville\, Alabama 35810\n\n\nRide Captain: \nCoop\npgrcoop@gmail.com\n256-653-2896\n\nFlag Captain: Paul Neal\, moosen23@hotmail.com\, 256-508-9172\nFlag Captain: Myricks\,  levon57@gmail.com\, 256-658-4514\n\n\nSpecial Instructions: \nPlace flags.\nSet flag line.\nFamily arrives at 1:30 pm\n\n\nFlags & Water:\nFlags will be provided\nLarge Bike Flags will NOT be needed.\nWater will be provided.\n\nSTAGING #2 DETAILS: 07-27-19 \nStaging Time: 09:00 AM\n \nRoyal Funeral Home Chapel of Memories\n4315 Oakwood Ave.\nHuntsville\, Alabama 35810\n\n\nRide Captain: \nCoop\npgrcoop@gmail.com\n256-653-2896\n\nFlag Captain: Paul Neal\, moosen23@hotmail.com\, 256-508-9172\nFlag Captain: Myrick\, sriisec@gmail.com\, 256-797-4569\n\n\nSpecial Instructions: \nPlace flags.\nSet flag line.\nFuneral to follow at 10:30 am.\nEscort to Oakwood Memory Gardens\n\n\nFlags & Water:\nFlags will be provided\nIf you have large bike flags\, please bring them.\nWater will be provided.\n\n\n\nSubmitted By: John Cooper \nPosition: Alabama Ride Captain \n\nNote: You do not have to own/ride a motorcycle or be a veteran to join\, and membership is Free. The only requirement is RESPECT! To subscribe to receive mission notices\, log into the National Site and click on the Members tab at the top. Select the Subscribe to PGR Missions option.\n Print This Page
URL:https://www.patriotguard.org/mission/edward-cornelius-gaines-sr/
CATEGORIES:Honor Mission
END:VEVENT
END:VCALENDAR