BEGIN:VCALENDAR
VERSION:2.0
PRODID:-//Patriot Guard Riders - ECPv5.3.2.1//NONSGML v1.0//EN
CALSCALE:GREGORIAN
METHOD:PUBLISH
X-WR-CALNAME:Patriot Guard Riders
X-ORIGINAL-URL:https://www.patriotguard.org
X-WR-CALDESC:Events for Patriot Guard Riders
BEGIN:VTIMEZONE
TZID:America/New_York
BEGIN:DAYLIGHT
TZOFFSETFROM:-0500
TZOFFSETTO:-0400
TZNAME:EDT
DTSTART:20190310T070000
END:DAYLIGHT
BEGIN:STANDARD
TZOFFSETFROM:-0400
TZOFFSETTO:-0500
TZNAME:EST
DTSTART:20191103T060000
END:STANDARD
END:VTIMEZONE
BEGIN:VEVENT
DTSTART;VALUE=DATE:20190905
DTEND;VALUE=DATE:20190906
DTSTAMP:20210401T133237
CREATED:20190903T203418Z
LAST-MODIFIED:20190903T203418Z
UID:172682-1567641600-1567727999@www.patriotguard.org
SUMMARY:Edward Charles Udell II
DESCRIPTION:Honor Mission\nEdward Charles Udell II\, Retired\nUSA\nEvans\, Georgia – 09-05-19\n\n\nABOUT THE MISSION:\n\n\nThe family of Edward Charles Udell II has requested the Patriot Guard Riders to stand for him as he once stood for us. We are honored to do so. SSG (Ret) Udell served in the U.S. Army for over twenty years\, retiring in October of 1989. Some of his awards include the Army Commendation Medal with one Oak Leaf Cluster and the Armed Forces Expeditionary Medal.\n\n\nPRIMARY STAGING DETAILS: 09-05-19 \nStaging Time: 12:30 pm \nPlatt’s West Funeral Home\n337 North Belair Road\nEvans \, Georgia 30809\n\n\nRide Captain: \nNorm Chagnon\n774-644-7008\nplayshockey12@comcast.net\n\n\nSpecial Instructions: \nAfter the briefing we will stand a flag line as family and friends arrive for visitation and the 2:00 pm service. Once the service starts we will stand down and prepare for the escort to Bellevue Memorial Gardens in Grovetown\, Georgia. Upon arriving at the cemetery we will again stand a flag line during the graveside service.\n\n\nFlags & Water:\n\nFlags will be provided\nIf you have large bike flags\, please bring them.\nWater will be provided.\n\n\n\nSubmitted By: norman chagnon \nPosition: Georgia Ride Captain \n\nNote: You do not have to own/ride a motorcycle or be a veteran to join\, and membership is Free. The only requirement is RESPECT! To subscribe to receive mission notices\, log into the National Site and click on the Members tab at the top. Select the Subscribe to PGR Missions option.\n Print This Page
URL:https://www.patriotguard.org/mission/edward-charles-udell-ii/
CATEGORIES:Honor Mission
END:VEVENT
END:VCALENDAR