BEGIN:VCALENDAR
VERSION:2.0
PRODID:-//Patriot Guard Riders - ECPv5.6.0//NONSGML v1.0//EN
CALSCALE:GREGORIAN
METHOD:PUBLISH
X-WR-CALNAME:Patriot Guard Riders
X-ORIGINAL-URL:https://www.patriotguard.org
X-WR-CALDESC:Events for Patriot Guard Riders
BEGIN:VTIMEZONE
TZID:America/New_York
BEGIN:DAYLIGHT
TZOFFSETFROM:-0500
TZOFFSETTO:-0400
TZNAME:EDT
DTSTART:20160313T070000
END:DAYLIGHT
BEGIN:STANDARD
TZOFFSETFROM:-0400
TZOFFSETTO:-0500
TZNAME:EST
DTSTART:20161106T060000
END:STANDARD
END:VTIMEZONE
BEGIN:VEVENT
DTSTART;TZID=America/New_York:20160601T090000
DTEND;TZID=America/New_York:20160601T110000
DTSTAMP:20210511T133113
CREATED:20160601T130000Z
LAST-MODIFIED:20191201T145523Z
UID:411676-1464771600-1464778800@www.patriotguard.org
SUMMARY:Eduamino Jaramillo\, 85\, USAAC
DESCRIPTION:Eduamino “Eddy” Jaramillo\nUnited States Army Air Corps – KOREA \n6-1-2016\n\n\nPatriot Guard Riders have been invited by the family to honor another great American hero. \nEduamino “Eddy” Jaramillo\, age 85\, born in La Palma\, NM and a resident of Albuquerque\, passed away May 25\, 2016 at home with his family by his side.  \nEddy served proudly in Korea with the U.S. Army and was an avid motorcycle enthusiast! \nMr. Jaramillo is survived by his wife of sixty-three years\, Carolina; seven children; one honorary daughter; four sisters\, one  brother; seventeen grandchildren; fourteen great-grandchildren; several nieces\, nephews\, cousins\, and friends. \nMr. Jaramillo was preceded in death by his parents and two sisters. \nVisitation will be Tuesday\, May 31\, 2016 at Church of the Ascension Catholic Church\, 2150 Raymac Rd. SW from 6:30 p.m. until 7:00 p.m. with a Rosary to be recited at 7:00 p.m. Final visitation will be Wednesday\, June 01\, 2016 from 9:30 a.m. until 10:00 a.m. at the Church with Mass of Christian Burial to be celebrated at 10:00 a.m.  Interment will follow at Sunset Memorial Cemetery.  –  See more at: http://www.legacy.com/obituaries/abqjournal/obituary.aspx?n=eduamino-jaramillo&pid=180152242&fhid=27103#sthash.Po0RHgH6.dpuf \nMore at: http://www.legacy.com/obituaries/abqjournal/obituary.aspx?n=eduamino-jaramillo&pid=180152242&fhid=27103\n\n PRIMARY STAGING INFO – 6-1-2016\n\n Location: \nAscesion Catholic Church\n2150 Raymac Rd SW\,\nAlbuquerque\, NM 87105 \nStaging Time:\n9:00 AM \nBriefing:\n9.15 AM \nFlag line:\n9:30 AM – 10:00 for 10:00 services and again after service. \nKSU-  ASAP after service for escort \nEscort To: \nSunset Memorial Park\n924 Menaul Blvd. NE\nAlbuquerque\, NM \nFlag line For Honor Services at: 11:30 AM  Services will be held inside\, flag-line will be outside.. \nRCIC:\nEvaristo “Budman” Montoya – RC – hdpan55@yahoo.com – 505-410-0940  \nARC: Gomez             gomez6801@gmail.com         505-573-6801\n\nFlags will be provided.\nLarge bike flags will NOT be needed.  \nWeather: at times of service\n67˚  scattered showers
URL:https://www.patriotguard.org/mission/eduamino-jaramillo-85-usaac/
CATEGORIES:Archive
END:VEVENT
END:VCALENDAR