BEGIN:VCALENDAR
VERSION:2.0
PRODID:-//Patriot Guard Riders - ECPv5.6.0//NONSGML v1.0//EN
CALSCALE:GREGORIAN
METHOD:PUBLISH
X-WR-CALNAME:Patriot Guard Riders
X-ORIGINAL-URL:https://www.patriotguard.org
X-WR-CALDESC:Events for Patriot Guard Riders
BEGIN:VTIMEZONE
TZID:America/New_York
BEGIN:DAYLIGHT
TZOFFSETFROM:-0500
TZOFFSETTO:-0400
TZNAME:EDT
DTSTART:20160313T070000
END:DAYLIGHT
BEGIN:STANDARD
TZOFFSETFROM:-0400
TZOFFSETTO:-0500
TZNAME:EST
DTSTART:20161106T060000
END:STANDARD
END:VTIMEZONE
BEGIN:VEVENT
DTSTART;TZID=America/New_York:20160709T090000
DTEND;TZID=America/New_York:20160709T110000
DTSTAMP:20210512T221905
CREATED:20160709T130000Z
LAST-MODIFIED:20191201T144452Z
UID:410719-1468054800-1468062000@www.patriotguard.org
SUMMARY:Edgar Odell Smith\, 84\, USA - USN Veteran / Ozark
DESCRIPTION:Edgar Odell Smith\, 84\, U.S. Army/ U.S. Navy\nDate: Saturday\, July 9\, 2016\nService Time:  11:00 A.M \nThe family of Edgar Odell Smith has requested the Patriot Guard to stand in silent honor for their loved one. It will be an honor to stand the flag line for another of our countries best\, another great American Patriot. \nServices At:\nHolman Funeral Home and Cremations of Ozark\n995 South Union Ave.\nOzark\, AL 36360 \nInterment:\nNewton City Cemetery\n505 Killebrew Street\nNewton\, AL \nVisitation: Ozark Friday evening from 6:00 P.M. until 8:00 P. M. \nOzark STAGING: Behind Hardee’s on Andrews Ave. \nSTAGING: 10:15 am \nKSU: 10:30 am \nFlags/Support:\nWillie G\n334 389 3738 \nRCIC:\nHoward Swain (Mr. Wizzard)\nASC\nwizzard45@hotmail.com\n334 369-9090 \nWEATHER: Slight chance of rain with temperatures in the 90’s. Ensure you hydrate\, light clothing and be safe.
URL:https://www.patriotguard.org/mission/edgar-odell-smith-84-usa-usn-veteran-ozark/
CATEGORIES:Archive
END:VEVENT
END:VCALENDAR