BEGIN:VCALENDAR
VERSION:2.0
PRODID:-//Patriot Guard Riders - ECPv5.3.2.1//NONSGML v1.0//EN
CALSCALE:GREGORIAN
METHOD:PUBLISH
X-WR-CALNAME:Patriot Guard Riders
X-ORIGINAL-URL:https://www.patriotguard.org
X-WR-CALDESC:Events for Patriot Guard Riders
BEGIN:VTIMEZONE
TZID:America/New_York
BEGIN:DAYLIGHT
TZOFFSETFROM:-0500
TZOFFSETTO:-0400
TZNAME:EDT
DTSTART:20210314T070000
END:DAYLIGHT
BEGIN:STANDARD
TZOFFSETFROM:-0400
TZOFFSETTO:-0500
TZNAME:EST
DTSTART:20211107T060000
END:STANDARD
END:VTIMEZONE
BEGIN:VEVENT
DTSTART;VALUE=DATE:20210402
DTEND;VALUE=DATE:20210403
DTSTAMP:20210404T082851
CREATED:20210401T144552Z
LAST-MODIFIED:20210401T144552Z
UID:573555-1617321600-1617407999@www.patriotguard.org
SUMMARY:Edgar Lennox Potter
DESCRIPTION:Honor Mission\nEdgar Lennox Potter\, Veteran\nUSN\nWilmington\, North Carolina / Leland\, NC – 04-02-21\n\n\n\nABOUT THE MISSION: \nEdgar Lennox Potter was born on October 24\, 1935 and passed away March 29\, 2021. He served proudly and honorably in the US Navy.\n\n\nPRIMARY STAGING DETAILS: 04-03-21 \nStaging Time: 12:15 pm \nWinter Park Baptist Church\n4700 Wrightsville Ave.\nWilmington\, North Carolina 28403    Church\n\n\nRide Captain: \nBob “Pops” Page\n443-812-0165\nchinthe53@gmail.com\n\nBill Powell\n972-741-2896\ntxpowell50@gmail.com\n\n\nSpecial Instructions: \nThis is a multi-city mission.\n\n12:15 PM – Mission briefing\n12:30 PM – Stand flag line for arrival of family\n1:00 – 2:00 PM – flag line for family visitation\n2:05 PM – Stand down flag line and prepare for escort.\n\n3:00 PM – Escort to cemetery.\nGoshen Baptist Church Cemetery\n4124 Mt. Misery Rd\, NE\nLeland\, NC 28451     Cemetery \n\n3:30 PM – Dismount bikes and stand for Military Honors.\n\nMaintain social distancing during briefings and flag lines\, as outlined by the CDC and the governor’s guidelines.\nFace coverings are recommended and social distancing from non-household members is required.\nJust because you are comfortable touching and being near other people\, that does not mean that the other person is comfortable or safe with the contact.\nStay at least forty feet away from the family and funeral tent.\nIf you have exhibited any symptoms associated with this virus in the past 14 days\, please reconsider your attendance.\n\n\nFlags & Water:\nFlags will be provided\nIf you have large bike flags\, please bring them.\nWater will be provided.   \n\n\n\nSubmitted By: William Powell \nPosition: North Carolina Ride Captain \n\nNote: You do not have to own/ride a motorcycle or be a veteran to join\, and membership is Free. The only requirement is RESPECT! To subscribe to receive mission notices\, log into the National Site and click on the Members tab at the top. Select the Subscribe to PGR Missions option.\n Print This Page
URL:https://www.patriotguard.org/mission/edgar-lennox-potter/
CATEGORIES:Honor Mission
END:VEVENT
END:VCALENDAR