BEGIN:VCALENDAR
VERSION:2.0
PRODID:-//Patriot Guard Riders - ECPv5.6.0//NONSGML v1.0//EN
CALSCALE:GREGORIAN
METHOD:PUBLISH
X-WR-CALNAME:Patriot Guard Riders
X-ORIGINAL-URL:https://www.patriotguard.org
X-WR-CALDESC:Events for Patriot Guard Riders
BEGIN:VTIMEZONE
TZID:America/New_York
BEGIN:DAYLIGHT
TZOFFSETFROM:-0500
TZOFFSETTO:-0400
TZNAME:EDT
DTSTART:20160313T070000
END:DAYLIGHT
BEGIN:STANDARD
TZOFFSETFROM:-0400
TZOFFSETTO:-0500
TZNAME:EST
DTSTART:20161106T060000
END:STANDARD
END:VTIMEZONE
BEGIN:VEVENT
DTSTART;TZID=America/New_York:20160712T090000
DTEND;TZID=America/New_York:20160712T110000
DTSTAMP:20210512T233159
CREATED:20160712T130000Z
LAST-MODIFIED:20191201T144409Z
UID:410658-1468314000-1468321200@www.patriotguard.org
SUMMARY:Edgar J. Acosta\, 30\, USA
DESCRIPTION:Edgar Jose Acosta\, 30\n\n\n\n\nU.S. Army / GWOT\n\nLake Worth\, FL.\nTuesday\, July 12\, 2016\n\n\nThe family of SFC Edgar Jose Acosta has graciously requested the Patriot Guard Rider’s presence as they show their final respects and lay their loved one to rest.  SFC Costa served his Country in the U.S. Army and performed duties as a Technical Engineer and Combat Engineer. \nSFC Acosta served four tours in Iraq during his 9 years of dedicated service to our Grateful Nation.  SFC Acosta received injuries while serving\, which rendered him disabled and could no longer continue his military service. \nUpon leaving the Army\, SFC Acosta received an Honorable Discharge and awarded the Iraq Campaign Medal w/ Four Campaign Stars\, Bronze Star\, Meritorious Service Medal\, Army Commendation Medal (6th award)\, Army Achievement Medal\, Meritorious Unit Commendation (2nd award)\, Army Good Conduct Medal (2nd award)\, Global War On Terrorism Expeditionary Medal\, Army Lapel Ribbon\, Overseas Service Bar (8th award)\, Authorized Shoulder Sleeve Insignia for Former Wartime Service\, Air Assault Badge\, Presidential Unit Citation\, Valorous Unit Award\, Global War On Terrorism Service Medal\, Korean Defense Service Medal\, Humanitarian Service Medal\, Non Commissioned Officer Professional  Development Ribbon (2nd award)\, Army Service Ribbon\, Overseas Service Ribbon (5th award)\, Armed Forces Reserve Medal w/ M Device (2nd award)\, Military Outstanding Volunteer Service Medal\, Combat Action Badge\, Sharpshooter Marksmanship Badge w/ Pistol Bar\, Certificate of Achievement (6th award) and a Driver & Mechanic Badge w/ Driver Wheeled Vehicle (s) Clasp\,  \nPlease bring your 3 X 5 American Flags and join us as we stand in silent Honor and Respect for our U.S. Army GWOT Hero and his family. \nItinerary:\nSouth Florida National Cemetery\n6501 SR 7\nLake Worth\, FL.\, 33449\nMap:   https://goo.gl/eqnR7L  \nStage:              1300 hrs\nBrief:                1315 hrs           \nFlag Line:         As determined by Ride Captain\nService:           1330 hrs \nRide Captain:   TBD\nRC Email:        TBD\nRC Cell:           TBD \nRespectfully submitted:\nDavid “Flyboy” Shelton\nFlorida ASC
URL:https://www.patriotguard.org/mission/edgar-j-acosta-30-usa/
CATEGORIES:Archive
END:VEVENT
END:VCALENDAR