BEGIN:VCALENDAR
VERSION:2.0
PRODID:-//Patriot Guard Riders - ECPv5.3.2.1//NONSGML v1.0//EN
CALSCALE:GREGORIAN
METHOD:PUBLISH
X-WR-CALNAME:Patriot Guard Riders
X-ORIGINAL-URL:https://www.patriotguard.org
X-WR-CALDESC:Events for Patriot Guard Riders
BEGIN:VTIMEZONE
TZID:America/New_York
BEGIN:DAYLIGHT
TZOFFSETFROM:-0500
TZOFFSETTO:-0400
TZNAME:EDT
DTSTART:20190310T070000
END:DAYLIGHT
BEGIN:STANDARD
TZOFFSETFROM:-0400
TZOFFSETTO:-0500
TZNAME:EST
DTSTART:20191103T060000
END:STANDARD
END:VTIMEZONE
BEGIN:VEVENT
DTSTART;VALUE=DATE:20190524
DTEND;VALUE=DATE:20190528
DTSTAMP:20210404T235136
CREATED:20190521T130804Z
LAST-MODIFIED:20190521T130804Z
UID:161689-1558656000-1559001599@www.patriotguard.org
SUMMARY:Edgar David Gross
DESCRIPTION:Honor Mission\nEdgar David Gross KIA Pearl Harbor\, Veteran\nUSN – WWII\nMULTI-CITY\, Alabama – 05-24-19\n\n\n\nABOUT THE MISSION: \nThe Family of Edgar David Gross has asked the Patriot Guard to honor their loved one by escorting him from Huntsville International Airport to Limestone Chapel Funeral Home\, standing a silent flag line at his Visitation and funeral Service with escort to his final resting place. The final escort will be by horse drawn caisson and horse drawn cannons. We will be Honored to do so. WT2 Gross stood for us…..now is the time to stand for him. WT2 Gross (40) was in the US Navy aboard the USS Oklahoma in Pearl Harbor when approximately 8 torpedoes struck the ship killing 429 Heroes standing for our Freedom.\n\n\nPRIMARY STAGING DETAILS: 05-24-19 \nStaging Time: 4:00 PM\n \nLimestone Chapel Funeral Home\n322 Hwy 31 N\nAthens\, Alabama 35611\n\n\nRide Captain: \nCoop pgrcoop@gmail.com\n256-653-2896\n\n\nSpecial Instructions: \nEscort to and from Huntsville International Airport.\nBriefing at 4:15 pm. You must attend briefing to escort.\nKSU with LEO at 5:00 pm\n\n\nFlags & Water:\nFlags will not be provided\nLarge Bike Flags will NOT be needed.\nWater WILL NOT be provided\, please bring your own.\n\nSTAGING #2 DETAILS: 05-26-19 \nStaging Time: 12:00 PM\n \nLimestone Chapel Funeral Home\n322 Hwy 31 N\nAthens\, Alabama 35611\n\n\nRide Captain: \nCoop\npgrcoop@gmail.com\n256-653-2896\n\nFlag Captain: Paul Neal\, moosen23@hotmail.com\, 256-508-9172\n\n\nSpecial Instructions: \nPlace flags. Set flag line.\nFamily arrives at 12:30 pm\n\n\nFlags & Water:\nFlags will be provided\nLarge Bike Flags will NOT be needed.\nWater will be provided.\n\nSTAGING #3 DETAILS: 05-27-19 \nStaging Time: 11:00 AM\n \nLimestone Chapel Funeral Home\n322 Hwy 31 N\nAthens\, Alabama 35611\n\n\nRide Captain: \nCoop\npgrcoop@gmail.com\n256-653-2896\n\n\nSpecial Instructions: \nLine up for escort.\nBriefing at 11:15 am. You must attend briefing to escort.\nKSU with LEO at 12:00 pm\n\n\nFlags & Water:\nFlags will be provided\nIf you have large bike flags\, please bring them.\nWater will be provided.\n\nSTAGING #4 DETAILS: 05-27-19 \nStaging Time: 1:30 PM\n \nCherry Grove Baptist Church\n6530 Cherry Grove Rd\nAthens\, Alabama 35614\n\n\nRide Captain: \nCoop\npgrcoop@gmail.com\n256-653-2896\n\nFlag Captain: Paul Neal\, moosen23@hotmail.com\, 256-508-9172\n\n\nSpecial Instructions: \nPlace Flags. Set flag line.\nFinal escort to be by horse drawn Caisson to Evans Cemetery.\n\n\nFlags & Water:\nFlags will be provided\nLarge Bike Flags will NOT be needed.\nWater will be provided.\n\n\n\nSubmitted By: John Cooper \nPosition: Alabama Ride Captain \n\nNote: You do not have to own/ride a motorcycle or be a veteran to join\, and membership is Free. The only requirement is RESPECT! To subscribe to receive mission notices\, log into the National Site and click on the Members tab at the top. Select the Subscribe to PGR Missions option.\n Print This Page
URL:https://www.patriotguard.org/mission/edgar-david-gross/
CATEGORIES:Honor Mission
END:VEVENT
END:VCALENDAR