BEGIN:VCALENDAR
VERSION:2.0
PRODID:-//Patriot Guard Riders - ECPv5.3.2.1//NONSGML v1.0//EN
CALSCALE:GREGORIAN
METHOD:PUBLISH
X-WR-CALNAME:Patriot Guard Riders
X-ORIGINAL-URL:https://www.patriotguard.org
X-WR-CALDESC:Events for Patriot Guard Riders
BEGIN:VTIMEZONE
TZID:America/New_York
BEGIN:DAYLIGHT
TZOFFSETFROM:-0500
TZOFFSETTO:-0400
TZNAME:EDT
DTSTART:20170312T070000
END:DAYLIGHT
BEGIN:STANDARD
TZOFFSETFROM:-0400
TZOFFSETTO:-0500
TZNAME:EST
DTSTART:20171105T060000
END:STANDARD
END:VTIMEZONE
BEGIN:VEVENT
DTSTART;TZID=America/New_York:20170518T173000
DTEND;TZID=America/New_York:20170518T193000
DTSTAMP:20210406T004906
CREATED:20170518T213000Z
LAST-MODIFIED:20191201T031354Z
UID:317969-1495128600-1495135800@www.patriotguard.org
SUMMARY:Eatonton Celebration of Patriots
DESCRIPTION:Eatonton Celebration of Patriots \nEatonton\, Georgia – 18 May 2017\n\n[HR][/HR]\nABOUT THE MISSION: \nThe Kiwanis Club of Eatonton\, Ga has requested the presence of the Patriot Guard Riders to attend their Celebration of Patriots event to be held Thursday\, May 18th at 7:00 PM on the Courthouse Square. As part of Memorial Day Weekend observances\, local veterans will be recognized. We will stand a flag line of honor during the ceremony. Free drinks and food will be served prior to the ceremony to all Riders. Prior to the ceremony\, we have been asked to ride in with big flags flying along with other local riders with LEO escort from Eagle 1 Travel Center on the north side of Eatonton to downtown Eatonton. \nPRIMARY STAGING DETAILS: 18 May 2017 \n \nPrimary Staging Time: 5:30 P.M.\n\nEagle 1 Travel Center\n100 Sara Lee Blvd\nEatonton\, Georgia – 31024 \n\nhttps://www.google.com/maps/place/10…3.3958915\,17z/\n\n \n\nRide Captain:\n\nDavid “hound” Blanton\n478 319-4284\njcghound@hotmail.com\n\n \n\nSpecial Instructions:\n\n\n\n \n \nFlags & Water:\n\nFlags Will Be Provided\n\nIf you have large bike flags\, please bring them.\n\nWater will be provided.\n\n\nSubmitted By: David Blanton\nPosition: Ride Captain \n[HR][/HR]\nNote:\nYou do not have to own/ride a motorcycle or be a Veteran to join and membership is Free. The only requirement is RESPECT! To join\, simply go to www.PatriotGuard.org and click on Register. Membership is Free. \nTo subscribe to receive mission notices\, log into the National Site and click on the Mission Tab at the top. Select Upcoming Missions by State. Scroll to the state(s) you would like to receive notices for and click on the green check mark. Detailed instructions are also located in the FAQs on the site by clicking on the Quick Links Tab and selecting FAQs.
URL:https://www.patriotguard.org/mission/eatonton-celebration-of-patriots-4/
END:VEVENT
END:VCALENDAR