BEGIN:VCALENDAR
VERSION:2.0
PRODID:-//Patriot Guard Riders - ECPv5.3.2.1//NONSGML v1.0//EN
CALSCALE:GREGORIAN
METHOD:PUBLISH
X-WR-CALNAME:Patriot Guard Riders
X-ORIGINAL-URL:https://www.patriotguard.org
X-WR-CALDESC:Events for Patriot Guard Riders
BEGIN:VTIMEZONE
TZID:America/New_York
BEGIN:DAYLIGHT
TZOFFSETFROM:-0500
TZOFFSETTO:-0400
TZNAME:EDT
DTSTART:20170312T070000
END:DAYLIGHT
BEGIN:STANDARD
TZOFFSETFROM:-0400
TZOFFSETTO:-0500
TZNAME:EST
DTSTART:20171105T060000
END:STANDARD
END:VTIMEZONE
BEGIN:VEVENT
DTSTART;TZID=America/New_York:20170425T210000
DTEND;TZID=America/New_York:20170425T230000
DTSTAMP:20210401T211317
CREATED:20170426T010000Z
LAST-MODIFIED:20191201T031701Z
UID:322392-1493154000-1493161200@www.patriotguard.org
SUMMARY:Eastern Iowa Honor Flight Welcome Home
DESCRIPTION:Eastern Iowa Honor Flight Welcome Home\n\nCedar Rapids\, Iowa – 25 Apr 2017\n\n\n[HR][/HR] \n\n\nABOUT THE MISSION: \nThe Patriot Guard Riders have been invited to help welcome home the  Eastern Iowa Honor Flight as they arrive back in Cedar Rapids after  touring the memorials in their honor in Washington\, DC. \nPRIMARY STAGING DETAILS:  25 Apr 2017 \n\n\n\nPrimary Staging Time:  9:00 P.M.\n\nThe Eastern Iowa Airport\n2121 Arthur Collins Parkway\n\nCedar Rapids\, Iowa – 52404\n\n\n\n\n\nRide Captain:\n\nHenry Ruprecht\n(319)857-4841\nhdrup@yahoo.com\n\n\n\n\nSpecial Instructions:\n\nMission Brief: 9:20 PM\nEstablish flag line when briefing is complete and prepare for flight arrival\n\n\n\n\nFlags & Water:\n\nFlags Will Be Provided\n\nLarge Bike Flags will NOT be needed.\n\nWater WILL NOT be provided\, please bring your own.\n\n\nSubmitted By:  Scott Rathjens\nPosition:  Ride Captain \n[HR][/HR]\nNote:\nYou do not have to own/ride a motorcycle or be a Veteran to join and membership is Free. The only requirement is RESPECT! To join\, simply go to www.PatriotGuard.org and click on Register. Membership is Free. \nTo subscribe to receive mission notices\, log into the National Site and  click on the Mission Tab at the top. Select Upcoming Missions by State.  Scroll to the state(s) you would like to receive notices for and click  on the green check mark. Detailed instructions are also located in the  FAQs on the site by clicking on the Quick Links Tab and selecting FAQs.
URL:https://www.patriotguard.org/mission/eastern-iowa-honor-flight-welcome-home-2/
LOCATION:William H. Simpkins
END:VEVENT
END:VCALENDAR