BEGIN:VCALENDAR
VERSION:2.0
PRODID:-//Patriot Guard Riders - ECPv5.3.2.1//NONSGML v1.0//EN
CALSCALE:GREGORIAN
METHOD:PUBLISH
X-WR-CALNAME:Patriot Guard Riders
X-ORIGINAL-URL:https://www.patriotguard.org
X-WR-CALDESC:Events for Patriot Guard Riders
BEGIN:VTIMEZONE
TZID:America/New_York
BEGIN:DAYLIGHT
TZOFFSETFROM:-0500
TZOFFSETTO:-0400
TZNAME:EDT
DTSTART:20190310T070000
END:DAYLIGHT
BEGIN:STANDARD
TZOFFSETFROM:-0400
TZOFFSETTO:-0500
TZNAME:EST
DTSTART:20191103T060000
END:STANDARD
END:VTIMEZONE
BEGIN:VEVENT
DTSTART;VALUE=DATE:20190721
DTEND;VALUE=DATE:20190723
DTSTAMP:20210403T190227
CREATED:20190720T214105Z
LAST-MODIFIED:20190720T214105Z
UID:168375-1563667200-1563839999@www.patriotguard.org
SUMMARY:Earl West
DESCRIPTION:Honor Mission\nEarl West\, Veteran\nUSA – Vietnam\nMULTI-CITY\, Georgia – 07-21-19\n\n\n\nABOUT THE MISSION: \nThe family of Sgt (E-5) Earl West\, 75\, US Army (4/66-4/69) Vietnam era\, of Chatsworth\, GA has invited the Patriot Guard Riders to honor their loved one with a silent flagline and escort to his final place of rest. It will be our honor to do so. Mr. West served his country honorably and voluntarily during very tense times. He was willing to do anything asked of him to serve his country as a member of the signal Corp. Mr. West stood for us and now it is our time to stand for him.\n\n\nPRIMARY STAGING DETAILS: 07-21-19 \nStaging Time: 1:30 PM\n \nPeeples Funeral Home\n208 S. 3rd Ave.\nChatsworth\, Georgia 30705\n\n\nRide Captain: \nScott Hall\nCell: 706-463-1247\n\n\nSpecial Instructions: \nPrimary Staging/Visitation2:00-9:00 PM\n\n\nFlags & Water:\nFlags will be provided\nLarge Bike Flags will NOT be needed.\nWater WILL NOT be provided\, please bring your own.\n\nSTAGING #2 DETAILS: 07-22-19 \nStaging Time: 12:30 PM\n \nPeeples Funeral Home\n208 S. 3rd Ave.\nChatsworth\, Georgia 30705\n\n\nRide Captain: \nScott Hall\nCell:706-463-1247\n\n\nSpecial Instructions: \nVisitation/Escort\, 1:00-2:00 PM (funeral w/escort to follow).\n\n\nFlags & Water:\nFlags will be provided\nIf you have large bike flags\, please bring them.\nWater WILL NOT be provided\, please bring your own.\n\nSTAGING #3 DETAILS: 07-22-19 \nStaging Time: 2:30 PM\n \nDawnville United Methodist Church\n1409 Dawnville Rd. NE\nDalton\, Georgia 30721\n\n\nRide Captain: \nScott Hall\nCell: 706-463-1247\n\n\nSpecial Instructions: \nGraveside: 3:00-4:00 PM\n\n\nFlags & Water:\nFlags will be provided\nIf you have large bike flags\, please bring them.\nWater WILL NOT be provided\, please bring your own.\n\n\n\nSubmitted By: Thonda Farmer \nPosition: Tennessee Assistant State Captain \n\nNote: You do not have to own/ride a motorcycle or be a veteran to join\, and membership is Free. The only requirement is RESPECT! To subscribe to receive mission notices\, log into the National Site and click on the Members tab at the top. Select the Subscribe to PGR Missions option.\n Print This Page
URL:https://www.patriotguard.org/mission/earl-west/
CATEGORIES:Honor Mission
END:VEVENT
END:VCALENDAR