BEGIN:VCALENDAR
VERSION:2.0
PRODID:-//Patriot Guard Riders - ECPv5.6.0//NONSGML v1.0//EN
CALSCALE:GREGORIAN
METHOD:PUBLISH
X-WR-CALNAME:Patriot Guard Riders
X-ORIGINAL-URL:https://www.patriotguard.org
X-WR-CALDESC:Events for Patriot Guard Riders
BEGIN:VTIMEZONE
TZID:America/New_York
BEGIN:DAYLIGHT
TZOFFSETFROM:-0500
TZOFFSETTO:-0400
TZNAME:EDT
DTSTART:20160313T070000
END:DAYLIGHT
BEGIN:STANDARD
TZOFFSETFROM:-0400
TZOFFSETTO:-0500
TZNAME:EST
DTSTART:20161106T060000
END:STANDARD
END:VTIMEZONE
BEGIN:VEVENT
DTSTART;TZID=America/New_York:20160806T090000
DTEND;TZID=America/New_York:20160806T110000
DTSTAMP:20210512T012130
CREATED:20160806T130000Z
LAST-MODIFIED:20191201T143757Z
UID:410087-1470474000-1470481200@www.patriotguard.org
SUMMARY:Earl Stanley Gardner\, Sr.\, 58\, MSARNG Veteran / Mendenhall
DESCRIPTION:Earl Stanley Gardner\, Sr\, 58\nMSARNG Veteran\nMendenhall\, Pinola\, MS\nSaturday 6 August 2016\n\n\n\nThe family of Earl Stanley Gardner\, Sr. has requested the PATRIOT GUARD RIDERS honor and pay tribute to him for his service to our country. \nMr. Gardner proudly served in the MSARNG. \nPRIMARY STAGING:  Saturday 16 August 2016 at 9:00 AM at\nCOLONIAL CHAPEL FUNERAL HOME\n3077 MS-13\nMendenhall\, MS 39114 \nThe PGR will provide a silent US Flag line for visitation until the beginning of the funeral service at 10:00 AM. \nESCORT:  Immediately following the funeral service the PGR will escort Mr. Gardner to\nPINOLA CEMETERY\n2537 Hwy-28\nPinola\, MS 39149 and provide a silent US Flag line for the graveside service. \nPlease join us as we STAND FOR ONE WHO STOOD FOR US ! \nRC Roger Barrett\n601.826.5205
URL:https://www.patriotguard.org/mission/earl-stanley-gardner-sr-58-msarng-veteran-mendenhall/
CATEGORIES:Archive
END:VEVENT
END:VCALENDAR