BEGIN:VCALENDAR
VERSION:2.0
PRODID:-//Patriot Guard Riders - ECPv5.3.2.1//NONSGML v1.0//EN
CALSCALE:GREGORIAN
METHOD:PUBLISH
X-WR-CALNAME:Patriot Guard Riders
X-ORIGINAL-URL:https://www.patriotguard.org
X-WR-CALDESC:Events for Patriot Guard Riders
BEGIN:VTIMEZONE
TZID:UTC
BEGIN:STANDARD
TZOFFSETFROM:+0000
TZOFFSETTO:+0000
TZNAME:UTC
DTSTART:20180101T000000
END:STANDARD
END:VTIMEZONE
BEGIN:VEVENT
DTSTART;VALUE=DATE:20180511
DTEND;VALUE=DATE:20180512
DTSTAMP:20210401T182008
CREATED:20180509T211703Z
LAST-MODIFIED:20180509T211703Z
UID:119233-1525996800-1526083199@www.patriotguard.org
SUMMARY:Earl H. Fisher
DESCRIPTION:Earl H. Fisher\, Retired\nUSA – WWII\, Korea\, Vietnam\nMurrells Inlet\, South Carolina – 11 May 2018\n\n\n\nABOUT THE MISSION: \n\nThe Patriot Guard Riders have been asked to stand in honor of a WWII\, Korea and Vietnam Veteran. SGM Fisher retired from the U.S. Army after 31 years of Honorable Service. He proudly served his Country in WWII\, Korea and Vietnam. After retiring\, he remained active in Veteran Organizations. He was a life member of the American Legion\, Veterans of Foreign Wars and the Non Commissioned Officer Association. \nThe family requests that we escort them from their residence in Murrells Inlet to Goldfinch Funeral Home Beach Chapel in Murrells Inlet. We will stand a Flag Line there as the family and friends arrive for the Visitation and Service. \nThe escort from the family residence in Murrells Inlet will depart at 1000 (10:00 A.M.). A visitation and service is to be held at Goldfinch Funeral Home Beach Chapel in Murrells Inlet. Visitation will be from 1100 (11:00 A.M.) to 1200 (12:00 P.M.). The Service will begin at 1200 (12:00 P.M.). \n\nPRIMARY STAGING DETAILS: 11 May 2018\nPrimary Staging Time: 9:40 A.M. \nCircle K/BP Gas Station\n9146 Highway 17 South\nMurrells Inlet\, South Carolina – 29576\nhttps://goo.gl/maps/tMSi6YH5aXk\nRide Captain: \nEd Courtney\nedcourtney@sccoast.net\n843-907-9183\nSpecial Instructions: \n\nKSU at 9:55 A.M. \nAfter the briefing\, we will ride to the family residence\, ¼ mile from the staging area. The escort is 5 miles. If you have large flags please fly them. Make sure your mounts and flags are well secured. \nAssisting: Gerry Chinetti \nFlags: Debra Mumma \n\nFlags & Water: \nFlags Will Not Be Needed\nIf you have large bike flags\, please bring them.\nWater WILL NOT be provided\, please bring your own.\n\nSTAGING #2 DETAILS: 11 May\, 2018\nStaging #2 Time: 9:45 A.M. \nGoldfinch Funeral Home Beach Chapel\n11528 Highway 17 Bypass\nMurrells Inlet\, South Carolina – 29576\nhttps://goo.gl/maps/BsqmcHXk1PT2\nRide Captain: \nDebra Mumma\n\nSpecial Instructions: \n\nBriefing at 9:55 A.M. \nAfter the briefing\, we will prepare to Stand the Flag Line as the escort with the family arrives. We will hold the flag line until the Service begins at 1200 (12:00 P.M.) at which time we will stand down and depart. \n\nFlags & Water: \nFlags Will Be Provided\nLarge Bike Flags will NOT be needed\nWater will be provided.\nSubmitted By: Edward Courtney\nPosition: Assistant State Captain\n Print This Page
URL:https://www.patriotguard.org/mission/earl-h-fisher/
CATEGORIES:Honor Mission
END:VEVENT
END:VCALENDAR