BEGIN:VCALENDAR
VERSION:2.0
PRODID:-//Patriot Guard Riders - ECPv5.3.2.1//NONSGML v1.0//EN
CALSCALE:GREGORIAN
METHOD:PUBLISH
X-WR-CALNAME:Patriot Guard Riders
X-ORIGINAL-URL:https://www.patriotguard.org
X-WR-CALDESC:Events for Patriot Guard Riders
BEGIN:VTIMEZONE
TZID:America/New_York
BEGIN:DAYLIGHT
TZOFFSETFROM:-0500
TZOFFSETTO:-0400
TZNAME:EDT
DTSTART:20190310T070000
END:DAYLIGHT
BEGIN:STANDARD
TZOFFSETFROM:-0400
TZOFFSETTO:-0500
TZNAME:EST
DTSTART:20191103T060000
END:STANDARD
END:VTIMEZONE
BEGIN:VEVENT
DTSTART;VALUE=DATE:20190923
DTEND;VALUE=DATE:20190924
DTSTAMP:20210401T083538
CREATED:20190922T182123Z
LAST-MODIFIED:20190922T182123Z
UID:175947-1569196800-1569283199@www.patriotguard.org
SUMMARY:Dwight Spangler
DESCRIPTION:Honor Mission\nDwight Spangler\, Veteran\nUSMC – WWII\nDallas\, Texas – 09-23-19\n\n\n \n\nABOUT THE MISSION: \nMr. Spangler served in the Pacific Theater and participated in capture and defense of Guam and Marianna Islands\n\n\nPRIMARY STAGING DETAILS: 09-23-19 \nStaging Time: 8:30 am\n \nDFW National Cemetery\n2000 Mountain Creek pkwy\nDallas\, Texas 75211\n\n\nRide Captain: \nRusty McNab\nrustymcnab@sbcglobal.net\n(817) 228-7845\n\n\nSpecial Instructions: \nInterment Service Starting Time 9:30am\nThe Patriot Guard Riders will stage at the Visitor’s Center\, DFW National Cemetery. Following the mission briefing\, Big Flag Honor Bikes will move to the staging lane and prepare to escort the Coach. The remaining Riders will proceed to the Shelter and stand the Flag Line for the Interment Service of Mr. Spangler. At the conclusion of the Service\, Flags will be furled and Riders dismissed.\n\nFlags & Water:\nFlags will be provided\nIf you have large bike flags\, please bring them.\nWater WILL NOT be provided\, please bring your own.\n\n\n\nSubmitted By: Dan Mathys \nPosition: Texas Ride Captain \n\nNote: You do not have to own/ride a motorcycle or be a veteran to join\, and membership is Free. The only requirement is RESPECT! To subscribe to receive mission notices\, log into the National Site and click on the Members tab at the top. Select the Subscribe to PGR Missions option.\n Print This Page
URL:https://www.patriotguard.org/mission/dwight-spangler/
CATEGORIES:Honor Mission
END:VEVENT
END:VCALENDAR