BEGIN:VCALENDAR
VERSION:2.0
PRODID:-//Patriot Guard Riders - ECPv5.6.0//NONSGML v1.0//EN
CALSCALE:GREGORIAN
METHOD:PUBLISH
X-WR-CALNAME:Patriot Guard Riders
X-ORIGINAL-URL:https://www.patriotguard.org
X-WR-CALDESC:Events for Patriot Guard Riders
BEGIN:VTIMEZONE
TZID:America/New_York
BEGIN:DAYLIGHT
TZOFFSETFROM:-0500
TZOFFSETTO:-0400
TZNAME:EDT
DTSTART:20160313T070000
END:DAYLIGHT
BEGIN:STANDARD
TZOFFSETFROM:-0400
TZOFFSETTO:-0500
TZNAME:EST
DTSTART:20161106T060000
END:STANDARD
END:VTIMEZONE
BEGIN:VEVENT
DTSTART;TZID=America/New_York:20160624T090000
DTEND;TZID=America/New_York:20160624T110000
DTSTAMP:20210513T160504
CREATED:20160624T130000Z
LAST-MODIFIED:20191201T144845Z
UID:411074-1466758800-1466766000@www.patriotguard.org
SUMMARY:Dwain Thomas Cook\, Jr.\, USN Veteran / Scurry
DESCRIPTION:Patriot’s Name:  Dwain Cook\, Jr.\nMilitary Branch:  United States Navy\nClassification:  Veteran \nLink To Obituary:\nhttp://goo.gl/2IEa8o \nMission Ride Captain:\nRick Crabb\, randjcrabb@juno.com\, (910) 330-9861 \nMission Summary:\nThe family of Mr. Dwain Thomas Cook\, Jr. have asked the Patriot Guard Riders to honor his memory and service to our Country by standing a Flag Line at his funeral\, taking him to his final rest\, and standing again at his interment service \nPART 1:  Flag Line at funeral service and procession\nMission Date:  Jun 24\, 2016 – Friday\nStaging Time:  10:00\nBriefing Time:  10:15\nIn Position Time Or KSU:  10:30\nService Start Time:  11:00 \nDetails Of Part 1:\nAfter the Mission Brief\, the Riders will establish the Flag Line and prepare to receive the family and friends of Mr. Cook prior to his funeral service.  When the service begins\, the Riders will return the flags to the support vehicle\, receive the Safety Briefing\, and prepare to accompany the procession to Kaufman Cemetery. Escort will be provided by the Kaufman Police Department \nName Of Staging Point:\nVictory Church of Scurry\n7325 TX-34\nScurry\, Texas 75158 \nPART 2:  Flag Line at interment ceremony\nMission Date:  Jun 24\, 2016 – Friday\nStaging Time:  11:15\nBriefing Time:  11:30\nIn Position Time Or KSU:  11:45\nService Start Time:  12:00 \nDetails Of Part 2:\nThe support vehicle and designated Riders will establish the Flag Line and await the arrival of Mr. Cook\, his family\, and friends. When directed\, the Riders will return the flags to the support vehicle\, be debriefed and dismissed \nName Of Staging Point\nKaufman Cemetery\nN. Washington at Restland Street\nKaufman\, Texas 75158
URL:https://www.patriotguard.org/mission/dwain-thomas-cook-jr-usn-veteran-scurry/
CATEGORIES:Archive
END:VEVENT
END:VCALENDAR