BEGIN:VCALENDAR
VERSION:2.0
PRODID:-//Patriot Guard Riders - ECPv5.3.2.1//NONSGML v1.0//EN
CALSCALE:GREGORIAN
METHOD:PUBLISH
X-WR-CALNAME:Patriot Guard Riders
X-ORIGINAL-URL:https://www.patriotguard.org
X-WR-CALDESC:Events for Patriot Guard Riders
BEGIN:VTIMEZONE
TZID:America/New_York
BEGIN:DAYLIGHT
TZOFFSETFROM:-0500
TZOFFSETTO:-0400
TZNAME:EDT
DTSTART:20170312T070000
END:DAYLIGHT
BEGIN:STANDARD
TZOFFSETFROM:-0400
TZOFFSETTO:-0500
TZNAME:EST
DTSTART:20171105T060000
END:STANDARD
END:VTIMEZONE
BEGIN:VEVENT
DTSTART;TZID=America/New_York:20171014T090000
DTEND;TZID=America/New_York:20171014T110000
DTSTAMP:20210403T113932
CREATED:20171014T130000Z
LAST-MODIFIED:20191201T032623Z
UID:329777-1507971600-1507978800@www.patriotguard.org
SUMMARY:Dwain Thate Moentmann \, Retired\, USA - Vietnam
DESCRIPTION:Dwain Thate “BUD” Moentmann\, Retired\nUSA  – Vietnam\nRichmond\, Missouri – 14 Oct 2017\n\n\n[HR][/HR]\nABOUT THE MISSION: \n\nDwain Thate “BUD” Moentmann  graduated  from West Point Military Academy where he served proudly in the US Army  for 20 years from June 1958 – June 1978 retiring as a LTC.  He received  the Airborne Ranger Tab & Master Aviator Wings. 1500 hours of total  4400 hours of flight time was during combat. Awards received 2 Silver  Stars\, Distinguished Flying Cross\, 3 Bronze Stars\, Purple Heart\, 30 Air  Medals and many more.\n\n\nPRIMARY STAGING DETAILS:  14 Oct 2017\nPrimary Staging Time: 9:00 A.M. \n\nFaith Lutheran Church\n805 E Lexington St\nRichmond\, Missouri – 64085\n\n\nRide Captain: \n\nJim Bailey\nph-816-797-9577\nemail-johndeere01.jb@gmail.com\n\n\nSpecial Instructions: \n\nSet flags 9:00 AM\nMeeting 9:15 AM\nFuneral 10:00 AM\n22 mile escort following service to Trinity Lutheran Cemetery north of  Norborne Mo which is packed gravel.   Make sure bike flags are secure  for highway speeds.\n\n\nFlags & Water: \n\nFlags Will Be Provided\nIf you have large bike flags\, please bring them.\nWater will be provided.\n\n\nSubmitted By: Jim Bailey\nPosition: Ride Captain\n[HR][/HR]Note:\nYou do not have to own/ride a motorcycle or be a Veteran to join and membership is Free. The only requirement is RESPECT! To join\, simply go to www.PatriotGuard.org and click on Register. Membership is Free. \nTo subscribe to receive mission notices\, log into the National Site and click on the Mission Tab at the top. Select the Subscribe to Missions option.
URL:https://www.patriotguard.org/mission/dwain-thate-moentmann-retired-usa-vietnam/
LOCATION:Dillard E. Barnett
END:VEVENT
END:VCALENDAR