BEGIN:VCALENDAR
VERSION:2.0
PRODID:-//Patriot Guard Riders - ECPv5.3.2.1//NONSGML v1.0//EN
CALSCALE:GREGORIAN
METHOD:PUBLISH
X-WR-CALNAME:Patriot Guard Riders
X-ORIGINAL-URL:https://www.patriotguard.org
X-WR-CALDESC:Events for Patriot Guard Riders
BEGIN:VTIMEZONE
TZID:America/New_York
BEGIN:DAYLIGHT
TZOFFSETFROM:-0500
TZOFFSETTO:-0400
TZNAME:EDT
DTSTART:20190310T070000
END:DAYLIGHT
BEGIN:STANDARD
TZOFFSETFROM:-0400
TZOFFSETTO:-0500
TZNAME:EST
DTSTART:20191103T060000
END:STANDARD
END:VTIMEZONE
BEGIN:VEVENT
DTSTART;VALUE=DATE:20190914
DTEND;VALUE=DATE:20190915
DTSTAMP:20210401T014610
CREATED:20190912T014855Z
LAST-MODIFIED:20190912T014855Z
UID:173565-1568419200-1568505599@www.patriotguard.org
SUMMARY:Dustin B. Ard
DESCRIPTION:Memorial\nDustin B. Ard\, KIA\nUSA – WoT\nTacoma\, Washington – 09-14-19\n\n\n\nABOUT THE MISSION: \nLadies and Gentlemen of the Patriot Guard Riders\, the family of Dustin Ard has requested our presence to stand the flag line in honor of his life and service to our country. Sgt. 1st Class Dustin B. Ard\, 31\, died Aug. 29\, 2019\, as a result of wounds sustained while engaged in combat operations in Zabul Province\, Afghanistan. Ard was assigned to 2nd Battalion\, 1st Special Forces Group (Airborne) at Joint Base Lewis-McChord\, Washington. Please join us to stand in silent honor for this Hero that gave his all\, and in support for his family who are deeply grieving.\n\n\nPRIMARY STAGING DETAILS: 09-14-19 \nStaging Time: 1:30 PM\n \nEagle Leather\n10222 South Tacoma Way\nTacoma\, Washington 98499\n\n\nRide Captain: \nDoug “Doppler” Shepard\nDougsh@hotmail.com\n206-679-0059\n\nRCiT – Mike Collins\, ironhorse15_444@msn.com\nSV2 – Veronica “Vee” Port\, veronicaport@hotmail.com\n\n\nSpecial Instructions: \nSCHEDULE: 1:15 – RC/SV’s arrive\n1:30 – Riders arrive\, sign in\n1:45 – Mission Briefing\n2:00 – KSU to location\n2:30 – Flag Line in place.\nWatch the weather as it maybe wet on Saturday.\nCages always welcome!\n\n\nFlags & Water:\nFlags will be provided\nIf you have large bike flags\, please bring them.\nWater will be provided.\n\n\n\nSubmitted By: Doug Shepard \nPosition: Washington Ride Captain \n\nNote: You do not have to own/ride a motorcycle or be a veteran to join\, and membership is Free. The only requirement is RESPECT! To subscribe to receive mission notices\, log into the National Site and click on the Members tab at the top. Select the Subscribe to PGR Missions option.\n Print This Page
URL:https://www.patriotguard.org/mission/dustin-b-ard-2/
CATEGORIES:Memorial
END:VEVENT
END:VCALENDAR