BEGIN:VCALENDAR
VERSION:2.0
PRODID:-//Patriot Guard Riders - ECPv5.3.2.1//NONSGML v1.0//EN
CALSCALE:GREGORIAN
METHOD:PUBLISH
X-WR-CALNAME:Patriot Guard Riders
X-ORIGINAL-URL:https://www.patriotguard.org
X-WR-CALDESC:Events for Patriot Guard Riders
BEGIN:VTIMEZONE
TZID:America/New_York
BEGIN:DAYLIGHT
TZOFFSETFROM:-0500
TZOFFSETTO:-0400
TZNAME:EDT
DTSTART:20170312T070000
END:DAYLIGHT
BEGIN:STANDARD
TZOFFSETFROM:-0400
TZOFFSETTO:-0500
TZNAME:EST
DTSTART:20171105T060000
END:STANDARD
END:VTIMEZONE
BEGIN:VEVENT
DTSTART;TZID=America/New_York:20170318T083000
DTEND;TZID=America/New_York:20170318T103000
DTSTAMP:20210403T114454
CREATED:20170318T123000Z
LAST-MODIFIED:20191201T043910Z
UID:370674-1489825800-1489833000@www.patriotguard.org
SUMMARY://DUPLICATE// State Mission Request for 18 Mar 2017 from West Virginia - Clarence F. Rice
DESCRIPTION:Submitted by:\nMember Name:   Joe Cumblidge\nPosition:   State Captain\nCity\, State:   Parkersburg\, West Virginia\nUser Name:   ultraclassic\nEmail:   wvugo2001@suddenlink.net\n \nEmail Subject Line Setup\n\nPrefix to Use – Honor\nSubject Line –   Clarence F. Rice \, Veteran\, USA – WWII\,  Middlebourne\, West Virginia  – 18 Mar 2017\n\n\n\nSTATEWIDE REQUIRED!\n\n\n\n\n \n\nMod Instructions:\nPlease send statewide to WV\, IF we’re still doing that.  Thank you.\n\n++++++++ Copy the Information above this line++++++++++\n\n \nHonor Mission\n\n*** DO NOT REPLY *** \nThis is an automated message sent to you because you have subscribed to this State’s Mission thread. For current details on this mission\, please follow the link below. \nClarence F. Rice\, Veteran \nUSA  – WWII\nMiddlebourne\, West Virginia – 18 Mar 2017\n \n\n\nABOUT THE MISSION:\nThe Patriot Guard Riders have been invited to stand in silent Honor and Respect for PVT Clarence F. Rice\, US Army\, WWII Veteran for his final services on Saturday\, 18 Mar 17.  Clarence went to be with the Lord on 08 Mar 17. \nHe graduated with honors from Wellsburg High School in 1943. He was drafted into the United States Army in 1943 and spent a short time there before he was honorably medically discharged. He was an evangelist for 61 years for the church of Christ at several congregations in the Ohio Valley. Many referred to him as a “Soldier of the Cross”. He was the author of several books and “as far as we know” the first to put the “search word” book on the market in 1964. He also authored different sermon books and bible class material. He wrote over 1000 poems and 250 lyrics for gospel hymns of which some have been published. He was a former employee of the S. George Co.\, Wellsburg\, WV for 21 years where he printed flour sacks. He loved carpentry work which led to the construction of multiple homes including two of his own. \nServices will be held at the Middlebourne Church of Christ\, 111 Fair Ave.\, Middlebourne\, WV (http://tinyurl.com/hafh7kp) beginning at 1100.  Friends and family will be received prior to the service from 0900-1100.\n\nPRIMARY STAGING DETAILS:  18 Mar 2017\n\nPrimary Staging Time:  0930 A.M.\nChurch of Christ\, 111 Fair Ave.\nMiddlebourne\, West Virginia –\nhttp://tinyurl.com/hafh7kp  \n\nRide Captain:\nWV District 6 RC\, Pat Dawson (ptpup@frontier.com) is the designated Ride Captain in Charge of this most Honorable Missioin.\n\nSpecial Instructions:\nMission brief at 0945. \nFlag line will be in place NLT 1000 and maintained until the start of services \nAt the conclusion of services\, flag line will be established as Clarence is moved to the hearse for his final journey. \nEscort WILL be provided to Beechwood Cemetery\, Alma\, WV\, a distance of approximately 9 miles. \nUpon arrival at the cemetery\, our flag line will be set and maintained for graveside services. \nAs visitation will have already commenced\, please arrive as quietly as possible. \nWeather forecast for Saturday is for temperatures in the upper 40’s with a 50% chance of sunshine.  Please dress and travel accordinglyl \nWon’t you join with us as we say “Thank You” and “God Speed” to another of America’s Greatest Generation.\n\nFlags & Water:\nFlags Will NOT Be Provided\, Please Bring Your Own.\nLarge Bike Flags will NOT be needed.\nWater WILL NOT be provided\, please bring your own. \nSubmitted By:  Joe Cumblidge\nPosition:  State Captain \n\nNote:\nYou do not have to own/ride a motorcycle or be a Veteran to join and membership is Free. The only requirement is RESPECT! To join\, simply go to Patriot Guard website and click on Register. Membership is Free. \nTo subscribe to receive mission notices\, log into the National Site and click on the Mission Tab at the top. Select Upcoming Missions by State. Scroll to the state(s) you would like to receive notices for and click on the green check mark. Detailed instructions are also located in the FAQs on the site by clicking on the Quick Links Tab and selecting FAQs.
URL:https://www.patriotguard.org/mission/duplicate-state-mission-request-for-18-mar-2017-from-west-virginia-clarence-f-rice/
CATEGORIES:Archive
END:VEVENT
END:VCALENDAR