BEGIN:VCALENDAR
VERSION:2.0
PRODID:-//Patriot Guard Riders - ECPv5.6.0//NONSGML v1.0//EN
CALSCALE:GREGORIAN
METHOD:PUBLISH
X-WR-CALNAME:Patriot Guard Riders
X-ORIGINAL-URL:https://www.patriotguard.org
X-WR-CALDESC:Events for Patriot Guard Riders
BEGIN:VTIMEZONE
TZID:America/New_York
BEGIN:DAYLIGHT
TZOFFSETFROM:-0500
TZOFFSETTO:-0400
TZNAME:EDT
DTSTART:20160313T070000
END:DAYLIGHT
BEGIN:STANDARD
TZOFFSETFROM:-0400
TZOFFSETTO:-0500
TZNAME:EST
DTSTART:20161106T060000
END:STANDARD
END:VTIMEZONE
BEGIN:VEVENT
DTSTART;TZID=America/New_York:20160624T090000
DTEND;TZID=America/New_York:20160624T110000
DTSTAMP:20210513T180436
CREATED:20160624T130000Z
LAST-MODIFIED:20191201T144959Z
UID:411189-1466758800-1466766000@www.patriotguard.org
SUMMARY:Duane E Bueltel\, 84\, USAF Veteran / Santee
DESCRIPTION:Duane E Bueltel\, 84\nUSAF Veteran\nSantee/San Diego\n24 JUNE 2016 \n\n\n\nThe family of USAF veteran Duane E. Bueltel\, 84\, has invited the Patriot Guard Riders to be present to honor this hero for his service to his country.  It will be our privilege to do so. \nDuane served in USAF from Apr 1955 to Aug 1958. \nDuane graduated from ROTC at Creighton University in Omaha before joining the Air Force. He attended Primary Pilot Training at Spence AFB\, Georgia then Basic Pilot Training at Laredo AFB\, Texas before being station at AFFTC Edwards AFB in California. There he served as a Fighter Test Pilot for 3 years before his career was cut short after ejecting through a canopy on a T-33.   At the time of his discharge he had attained the rank of 1st Lt. \nDuane went on to serve the Federal Government for another 30 years before retiring to Laclede\, ID.  He was kept busy by his wife of 52 Years Mary Jo who passed in August of 2008. \nHe is survived by his two sons\, his two daughters\, nine grandchildren and 12 great-grandchildren. \nOur hero’s son\, Douglas\, is a member of the PGR and will be riding with us to Miramar National Cemetery. \nNOTE: This mission posting is to facilitate your voluntary participation in honoring this Military Veteran. For those interested\, and all are welcome\, we will be accompanying our hero and his family to his final resting place. Please see the time table if you would like to participate. For those who would rather go directly to the cemetery\, we will meet you there. \nTime Table for Friday\, June 24\, 2016: \n1100 – Stage at the old Pinnacle Peak Restaurant parking lot\, 7927 Mission Gorge Rd\, Santee\, CA 92071 \nhttps://goo.gl/maps/3YPNGLFFb1s \n1115 – Mission Briefing \n1130 – KSU to Miramar National Cemetery\, 5795 Nobel Dr\, San Diego\, CA 92122\nhttps://goo.gl/maps/NaRxnbwM6GK2 \n1200 – ETA at Miramar National Cemetery \n1230 – Flag Line\, Funeral Service with Full Military Honors \nR/C Bill Lamouree\n619-244-8543\nbilllamoureepgr@gmail.com
URL:https://www.patriotguard.org/mission/duane-e-bueltel-84-usaf-veteran-santee/
END:VEVENT
END:VCALENDAR