BEGIN:VCALENDAR
VERSION:2.0
PRODID:-//Patriot Guard Riders - ECPv5.6.0//NONSGML v1.0//EN
CALSCALE:GREGORIAN
METHOD:PUBLISH
X-WR-CALNAME:Patriot Guard Riders
X-ORIGINAL-URL:https://www.patriotguard.org
X-WR-CALDESC:Events for Patriot Guard Riders
BEGIN:VTIMEZONE
TZID:America/New_York
BEGIN:DAYLIGHT
TZOFFSETFROM:-0500
TZOFFSETTO:-0400
TZNAME:EDT
DTSTART:20160313T070000
END:DAYLIGHT
BEGIN:STANDARD
TZOFFSETFROM:-0400
TZOFFSETTO:-0500
TZNAME:EST
DTSTART:20161106T060000
END:STANDARD
END:VTIMEZONE
BEGIN:VEVENT
DTSTART;TZID=America/New_York:20160818T090000
DTEND;TZID=America/New_York:20160818T110000
DTSTAMP:20210512T023028
CREATED:20160818T130000Z
LAST-MODIFIED:20191201T143538Z
UID:409870-1471510800-1471518000@www.patriotguard.org
SUMMARY:Doyle M Cothren\, USA
DESCRIPTION:Doyle M Cothren\nUS Army Vietnam Veteran\nPhiladelphia\, PA\n18 AUG 2016\n\n\n\nThe family of Army Vietnam War Veteran Doyle McClain Cothren has requested the Patriot Guard Riders stand to honor his service to our nation during his visitation and funeral service Thursday\, August 18.  Following the funeral service\, an honor guard will present full military honors at the church.  Doyle M Cothren is a patriot who served our country with honor and now it’s our turn to stand and honor him. \nVISITATION & FUNERAL:  18 AUG 2016  Viewing 1000 HRS\, Service – 1100 HRS \nImmanuel Lutheran Church\n14100 Worthington Road\nPhiladelphia\, PA  19116\nMAP:  https://goo.gl/maps/PoUFycpFrtz \nStaging: 0930 HRS \nAt the Funeral Home \nRCIC:\nDale McGinnis\npgrpa.vetrep.east@gmail.com\n717-887-4679
URL:https://www.patriotguard.org/mission/doyle-m-cothren-usa/
CATEGORIES:Archive
END:VEVENT
END:VCALENDAR