BEGIN:VCALENDAR
VERSION:2.0
PRODID:-//Patriot Guard Riders - ECPv5.3.2.1//NONSGML v1.0//EN
CALSCALE:GREGORIAN
METHOD:PUBLISH
X-WR-CALNAME:Patriot Guard Riders
X-ORIGINAL-URL:https://www.patriotguard.org
X-WR-CALDESC:Events for Patriot Guard Riders
BEGIN:VTIMEZONE
TZID:America/New_York
BEGIN:DAYLIGHT
TZOFFSETFROM:-0500
TZOFFSETTO:-0400
TZNAME:EDT
DTSTART:20190310T070000
END:DAYLIGHT
BEGIN:STANDARD
TZOFFSETFROM:-0400
TZOFFSETTO:-0500
TZNAME:EST
DTSTART:20191103T060000
END:STANDARD
END:VTIMEZONE
BEGIN:VEVENT
DTSTART;VALUE=DATE:20190914
DTEND;VALUE=DATE:20190915
DTSTAMP:20210401T030731
CREATED:20190913T085555Z
LAST-MODIFIED:20190913T085555Z
UID:173786-1568419200-1568505599@www.patriotguard.org
SUMMARY:Douglas Ray Abut
DESCRIPTION:Honor Mission\nDouglas Ray Abut\, Veteran\nUSA – Vietnam\nSomerville\, Tennessee – 09-14-19\n\n\n\nABOUT THE MISSION: \nOur great State of Tennessee and the people of Somerville Tennessee have lost another Veteran Hero. SSG Douglas Ray Abut\, 71\, passed away August 2nd 2019. SSG Abut proudly served for 7 years from 1969 until 1976. The Patriot Guard Riders have been invited to honor SSG Abut and the services rendered to our great nation and the Patriot Guard Riders will be honored to do so.\n\n\nPRIMARY STAGING DETAILS: 09-14-19 \nStaging Time: 09:45 AM\n \nVictory Life Assembly of God\n11670 US-64\nSomerville\, Tennessee 38068\nMap\n\n\nRide Captain: \nKen Reed\n901-212-3232\nUsmc_reed@msn.com\n\n\nSpecial Instructions: \nPatriot Guard Riders will stake flags at the church and stand a brief flag line at 10:00 AM prior to the start of services at 10:30 AM. There will be no escort for this mission.\n\n\nFlags & Water:\nFlags will be provided\nLarge Bike Flags will NOT be needed.\nWater WILL NOT be provided\, please bring your own.\n\n\n\nSubmitted By: Ken Reed \nPosition: Tennessee Ride Captain \n\nNote: You do not have to own/ride a motorcycle or be a veteran to join\, and membership is Free. The only requirement is RESPECT! To subscribe to receive mission notices\, log into the National Site and click on the Members tab at the top. Select the Subscribe to PGR Missions option.\n Print This Page
URL:https://www.patriotguard.org/mission/douglas-ray-abut/
CATEGORIES:Honor Mission
END:VEVENT
END:VCALENDAR