BEGIN:VCALENDAR
VERSION:2.0
PRODID:-//Patriot Guard Riders - ECPv5.6.0//NONSGML v1.0//EN
CALSCALE:GREGORIAN
METHOD:PUBLISH
X-WR-CALNAME:Patriot Guard Riders
X-ORIGINAL-URL:https://www.patriotguard.org
X-WR-CALDESC:Events for Patriot Guard Riders
BEGIN:VTIMEZONE
TZID:America/New_York
BEGIN:DAYLIGHT
TZOFFSETFROM:-0500
TZOFFSETTO:-0400
TZNAME:EDT
DTSTART:20160313T070000
END:DAYLIGHT
BEGIN:STANDARD
TZOFFSETFROM:-0400
TZOFFSETTO:-0500
TZNAME:EST
DTSTART:20161106T060000
END:STANDARD
END:VTIMEZONE
BEGIN:VEVENT
DTSTART;TZID=America/New_York:20160616T090000
DTEND;TZID=America/New_York:20160616T110000
DTSTAMP:20210513T172457
CREATED:20160616T130000Z
LAST-MODIFIED:20191201T145134Z
UID:411333-1466067600-1466074800@www.patriotguard.org
SUMMARY:Douglas R. Key\, USA Veteran / Elizabethtown
DESCRIPTION:Douglas Ray Key\nSP4\, US Army\nVietnam Era Veteran\n\n\nWe have been asked and will stand in his honor at the   Grace Heartland Church\, in Elizabethtown\, KY.  We will also escort him  to his final resting place at the Kentucky Veterans Cemetery Central. \nTHURSDAY 16 JUNE 2016\nGrace Heartland Church\n801  Pear Orchard Road\nElizabethtown\, KY 42701 \n12:00 PM Staging and Line-up for Escort\n13:00-13:15  Escort to KVCC Begins\n\nKentucky Veterans Cemetery Central (KVCC)\n2501 North Dixie Boulevard\nRadcliff\, KY 40160\n\n13:00 PM Stage and Stake Flags\n14:00 PM Committal Service Begins\n\nPlease be prepared for the hot weather conditions and Ride Safely.   Please stage at the main building to the right as you enter the  Cemetery and move forward as requested by the Ride Captain. This will  ensure we do not disturb any other services taking place. \nRIDE CAPTAIN(S)\nDon Gilmore dgilmore@bbtel.com\nMickey Townsend legs00069@gmail.com\nJames (Danny) Johnson\, Senior Ride Captain\, roughriverdan@yahoo.com
URL:https://www.patriotguard.org/mission/douglas-r-key-usa-veteran-elizabethtown/
CATEGORIES:Archive
END:VEVENT
END:VCALENDAR