BEGIN:VCALENDAR
VERSION:2.0
PRODID:-//Patriot Guard Riders - ECPv5.3.2.1//NONSGML v1.0//EN
CALSCALE:GREGORIAN
METHOD:PUBLISH
X-WR-CALNAME:Patriot Guard Riders
X-ORIGINAL-URL:https://www.patriotguard.org
X-WR-CALDESC:Events for Patriot Guard Riders
BEGIN:VTIMEZONE
TZID:America/New_York
BEGIN:DAYLIGHT
TZOFFSETFROM:-0500
TZOFFSETTO:-0400
TZNAME:EDT
DTSTART:20190310T070000
END:DAYLIGHT
BEGIN:STANDARD
TZOFFSETFROM:-0400
TZOFFSETTO:-0500
TZNAME:EST
DTSTART:20191103T060000
END:STANDARD
END:VTIMEZONE
BEGIN:VEVENT
DTSTART;VALUE=DATE:20190801
DTEND;VALUE=DATE:20190802
DTSTAMP:20210402T143851
CREATED:20190730T231001Z
LAST-MODIFIED:20190730T231001Z
UID:169177-1564617600-1564703999@www.patriotguard.org
SUMMARY:Doug "Boogie Man" Dunphy
DESCRIPTION:Honor Mission\nDoug “Boogie Man” Dunphy\, Veteran\nUSA\, USAR – Vietnam\nSt. Louis\, Missouri – 08-01-19\n\n\n\n\nABOUT THE MISSION: \nThe family of Doug Dunphy has invited the Patriot Guard to honor their loved one with a flag line before his funeral service. Hero Dunphy served two tours in Vietnam as a Communication Center Specialist and was honorably discharged as an E-5.  He earned the Vietnam Campaign Medal\, the Vietnam Service Medal\, the National Defense Service Medal\, was an M-14 Marksman and had 2 Overseas Bars.  He has been a friend since grade school and attended Cleveland High School. We had many great times in the Boy Scouts and served on the Cleveland Dutchman Alumni Board together. He was retired from the Laclede Gas Company and was a true American Patriot.  Besides his family\, his true love was drag racing in his funny car.\n\n\nPRIMARY STAGING DETAILS: 08-01-19 \nStaging Time: 08:45 am \nZiegenhein Funeral Home (CITY)\n7027 Gravois\nSt. Louis\, Missouri 63116\n\n\nRide Captain: \nDenny “Dutchman” Eads\n314-277-2821\n\n\nSpecial Instructions: \nFlagline: 09:00 AM\nService: 10:00 AM\nEscort to Mt. Hope Cemetery following service for Military Honors.\n\nFlags & Water:\nFlags will be provided\nIf you have large bike flags\, please bring them.\nWater will be provided.\n\n\n\n\nSubmitted By: Denny Eads \nPosition: Missouri Ride Captain \n\nNote: You do not have to own/ride a motorcycle or be a veteran to join\, and membership is Free. The only requirement is RESPECT! To subscribe to receive mission notices\, log into the National Site and click on the Members tab at the top. Select the Subscribe to PGR Missions option.\n Print This Page
URL:https://www.patriotguard.org/mission/doug-boogie-man-dunphy/
CATEGORIES:Honor Mission
END:VEVENT
END:VCALENDAR