BEGIN:VCALENDAR
VERSION:2.0
PRODID:-//Patriot Guard Riders - ECPv5.6.0//NONSGML v1.0//EN
CALSCALE:GREGORIAN
METHOD:PUBLISH
X-WR-CALNAME:Patriot Guard Riders
X-ORIGINAL-URL:https://www.patriotguard.org
X-WR-CALDESC:Events for Patriot Guard Riders
BEGIN:VTIMEZONE
TZID:America/New_York
BEGIN:DAYLIGHT
TZOFFSETFROM:-0500
TZOFFSETTO:-0400
TZNAME:EDT
DTSTART:20160313T070000
END:DAYLIGHT
BEGIN:STANDARD
TZOFFSETFROM:-0400
TZOFFSETTO:-0500
TZNAME:EST
DTSTART:20161106T060000
END:STANDARD
END:VTIMEZONE
BEGIN:VEVENT
DTSTART;TZID=America/New_York:20160815T090000
DTEND;TZID=America/New_York:20160815T110000
DTSTAMP:20210512T011533
CREATED:20160815T130000Z
LAST-MODIFIED:20191201T143556Z
UID:409900-1471251600-1471258800@www.patriotguard.org
SUMMARY:Donnie L. Raburn\, USA
DESCRIPTION:Donnie L. Raburn\nUS Army / Vietnam\nSarasota\, FL\nMonday\, August 15\, 2016\n\n\nThe family of SGT Donnie L. Raburn has graciously requested the Patriot Guard Rider’s presence as they show their final respects and lay their loved one to rest. \nSGT Raburn served his Country in the U.S. Army with two tours in Vietnam.  Upon completion of his military service\, SGT Raburn received an Honorable Discharge and awarded the Bronze Star.  No additional military related information is available at this time. \nDuring SGT Raburn’s post military service\, he worked for the Eckerd Corp. and the Georgia Department of Corrections. \nPlease bring your 3 X 5 American Flags and join us as we stand in silent Honor and Respect for our U.S. Army Veteran and his family. \nItinerary:\nSarasota National Cemetery\n9801 SR 72\nSarasota\, FL. 34241 \nStage:              1100 hrs\nBrief:                1115 hrs\nFlag Line:          As determined by Ride Captain\nService:            1130 hrs \nRide Captain:    Henry Hyde\nRC Email:         hhydetkd@yahoo.com\nRC Cell:            727-798-0220
URL:https://www.patriotguard.org/mission/donnie-l-raburn-usa/
CATEGORIES:Archive
END:VEVENT
END:VCALENDAR