BEGIN:VCALENDAR
VERSION:2.0
PRODID:-//Patriot Guard Riders - ECPv5.6.0//NONSGML v1.0//EN
CALSCALE:GREGORIAN
METHOD:PUBLISH
X-WR-CALNAME:Patriot Guard Riders
X-ORIGINAL-URL:https://www.patriotguard.org
X-WR-CALDESC:Events for Patriot Guard Riders
BEGIN:VTIMEZONE
TZID:America/New_York
BEGIN:DAYLIGHT
TZOFFSETFROM:-0500
TZOFFSETTO:-0400
TZNAME:EDT
DTSTART:20160313T070000
END:DAYLIGHT
BEGIN:STANDARD
TZOFFSETFROM:-0400
TZOFFSETTO:-0500
TZNAME:EST
DTSTART:20161106T060000
END:STANDARD
END:VTIMEZONE
BEGIN:VEVENT
DTSTART;TZID=America/New_York:20160707T090000
DTEND;TZID=America/New_York:20160707T110000
DTSTAMP:20210512T222518
CREATED:20160707T130000Z
LAST-MODIFIED:20191201T144539Z
UID:410796-1467882000-1467889200@www.patriotguard.org
SUMMARY:Donald Watson\, 75\, USN
DESCRIPTION:CONFIRMED MISSION\n7 July 2016\nDonald “Donnie” Watson\, 75\nUSN\, Vietnam\nGlenwood\, AR\n\n\nAnother Arkansas Veteran Sgt Donald “Donnie” Watson\, 75\, has finished his tour of duty here with us.  The family has requested the Patriot Guard Riders to see their Hero home to his final duty station with Honor\, Dignity and Respect. \nhttp://www.davis-smith.com/obituary/Donald-Donnie-Watson/Glenwood-AR/1635438 \nIt will be an honor for us to stand for this Hero who stood for our country and us during Vietnam. \nSTAGING:  1200 Hrs.\, 7 July 2016\, Davis-Smith Funeral Home Chapel\, 209 North 3rd Street\, Glenwood\, AR. \nBRIEFING:  1215 Hrs.  Must attend briefing in order to ride in escort. \nFLAG LINE:  1230 Hrs. Flag Line until the commencement of services. (Flags will be provided) \nRESPECT LINE: At conclusion of services \nESCORT:  To the Glenwood Cemetery.  Big Flags will be needed! \nINTERMENT: With a Flag Line\, & Military Honors \nWEATHER:  Sunny\, with a high near 96. Heat index values as high as 102. Please Hydrate! Water will be provided. \nRCIC:   David “Dirty Water” Cone  (479) 264-9525   dawaco@hughes.net
URL:https://www.patriotguard.org/mission/donald-watson-75-usn/
CATEGORIES:Archive
END:VEVENT
END:VCALENDAR