BEGIN:VCALENDAR
VERSION:2.0
PRODID:-//Patriot Guard Riders - ECPv5.3.2.1//NONSGML v1.0//EN
CALSCALE:GREGORIAN
METHOD:PUBLISH
X-WR-CALNAME:Patriot Guard Riders
X-ORIGINAL-URL:https://www.patriotguard.org
X-WR-CALDESC:Events for Patriot Guard Riders
BEGIN:VTIMEZONE
TZID:America/New_York
BEGIN:DAYLIGHT
TZOFFSETFROM:-0500
TZOFFSETTO:-0400
TZNAME:EDT
DTSTART:20170312T070000
END:DAYLIGHT
BEGIN:STANDARD
TZOFFSETFROM:-0400
TZOFFSETTO:-0500
TZNAME:EST
DTSTART:20171105T060000
END:STANDARD
END:VTIMEZONE
BEGIN:VEVENT
DTSTART;TZID=America/New_York:20170207T154000
DTEND;TZID=America/New_York:20170207T174000
DTSTAMP:20210405T222615
CREATED:20170207T204000Z
LAST-MODIFIED:20191201T033545Z
UID:336541-1486482000-1486489200@www.patriotguard.org
SUMMARY:Donald T. Stapleton\, Veteran\, USMC - Korea
DESCRIPTION:Donald T. Stapleton\, Veteran\n\nUSMC – Korea \nBaldwinsville\, New York – 07 Feb 2017\n\n[HR][/HR]\nABOUT THE MISSION: \nThe family of Donald T. Stapleton\, USMC\, has requested the Patriot Guard stand for his calling hours. \nDonald served with the US Marine Corps during the Korean War. \nObituary Link: http://tinyurl.com/zb4x3jw \nPRIMARY STAGING DETAILS: 07 Feb 2017 \n \nPrimary Staging Time: 3:40 P.M.\n\nFalardeau Funeral Home\n93 Downer Street\n\nBaldwinsville\, New York – 13027\n\n\nhttp://tinyurl.com/zoy7qqh\n\n \nRide Captain:\n\nDavid Sikorski\ndsikorski1@verizon.net\n\n \nSpecial Instructions:\n\nThe calling hours will be 4 to 7 pm. Please stand with us to honor our fallen brother\, and his service to our country.\n\n \nFlags & Water:\n\nFlags Will NOT Be Provided\, Please Bring Your Own.\n\nLarge Bike Flags will NOT be needed.\n\nWater WILL NOT be provided\, please bring your own.\n\n\nSubmitted By: Ray Sestak\nPosition: Ride Captain \n[HR][/HR]\nNote:\nYou do not have to own/ride a motorcycle or be a Veteran to join and membership is Free. The only requirement is RESPECT! To join\, simply go to Patriot Guard website and click on Register. Membership is Free. \nTo subscribe to receive mission notices\, log into the National Site and click on the Mission Tab at the top. Select Upcoming Missions by State. Scroll to the state(s) you would like to receive notices for and click on the green check mark. Detailed instructions are also located in the FAQs on the site by clicking on the Quick Links Tab and selecting FAQs.
URL:https://www.patriotguard.org/mission/donald-t-stapleton-veteran-usmc-korea/
LOCATION:Jack Edwin Weston
END:VEVENT
END:VCALENDAR