BEGIN:VCALENDAR
VERSION:2.0
PRODID:-//Patriot Guard Riders - ECPv5.3.2.1//NONSGML v1.0//EN
CALSCALE:GREGORIAN
METHOD:PUBLISH
X-WR-CALNAME:Patriot Guard Riders
X-ORIGINAL-URL:https://www.patriotguard.org
X-WR-CALDESC:Events for Patriot Guard Riders
BEGIN:VTIMEZONE
TZID:America/New_York
BEGIN:DAYLIGHT
TZOFFSETFROM:-0500
TZOFFSETTO:-0400
TZNAME:EDT
DTSTART:20190310T070000
END:DAYLIGHT
BEGIN:STANDARD
TZOFFSETFROM:-0400
TZOFFSETTO:-0500
TZNAME:EST
DTSTART:20191103T060000
END:STANDARD
END:VTIMEZONE
BEGIN:VEVENT
DTSTART;VALUE=DATE:20190601
DTEND;VALUE=DATE:20190602
DTSTAMP:20210405T131205
CREATED:20190530T222104Z
LAST-MODIFIED:20190530T222104Z
UID:163112-1559347200-1559433599@www.patriotguard.org
SUMMARY:Donald Sunderland
DESCRIPTION:Honor Mission\nDonald Sunderland\, Retired\, Veteran\nUSA –\nSt George\, Utah – 06-01-19\n\n\n\nABOUT THE MISSION: \nThe Patriot Guard Riders have been requested to stand a flag line for Donald Sunderland. Donald Sunderland served in the U.S. Army. This will be a veteran’s format. The service will be at Spilsbury Mortuary on 110 S Buff St in St George at 02:00 PM on Saturday\, June 01\, 2019. We will stand a flag line at the mortuary during Military Honors\, to be performed on the mortuary grounds after a short memorial service in the Spilsbury chapel. Thank you\, Donald Sunderland\, for your service.\nAnyone attending in a cage and willing to transport flags please contact Kent Hardman.\n\n\nPRIMARY STAGING DETAILS: 06-01-19 \nStaging Time: 1:30 PM\n \nKmart\n745 S Bluff St\nSt George\, Utah\n\n\nRide Captain: \nKent Hardman\n801-201-6173\n\n\nSpecial Instructions: \nKSU: 2:00 PM\nWeather: Partly cloudy with a high of 90.\nPlease dress accordingly and keep yourself hydrated.\n\n\nFlags & Water:\nFlags will be provided\nLarge Bike Flags will NOT be needed.\nWater WILL NOT be provided\, please bring your own.\n\n\n\nSubmitted By: Dave Richardson \nPosition: Utah State Captain \n\nNote: You do not have to own/ride a motorcycle or be a veteran to join\, and membership is Free. The only requirement is RESPECT! To subscribe to receive mission notices\, log into the National Site and click on the Members tab at the top. Select the Subscribe to PGR Missions option.\n Print This Page
URL:https://www.patriotguard.org/mission/donald-sunderland/
CATEGORIES:Honor Mission
END:VEVENT
END:VCALENDAR