BEGIN:VCALENDAR
VERSION:2.0
PRODID:-//Patriot Guard Riders - ECPv5.3.2.1//NONSGML v1.0//EN
CALSCALE:GREGORIAN
METHOD:PUBLISH
X-WR-CALNAME:Patriot Guard Riders
X-ORIGINAL-URL:https://www.patriotguard.org
X-WR-CALDESC:Events for Patriot Guard Riders
BEGIN:VTIMEZONE
TZID:America/New_York
BEGIN:DAYLIGHT
TZOFFSETFROM:-0500
TZOFFSETTO:-0400
TZNAME:EDT
DTSTART:20190310T070000
END:DAYLIGHT
BEGIN:STANDARD
TZOFFSETFROM:-0400
TZOFFSETTO:-0500
TZNAME:EST
DTSTART:20191103T060000
END:STANDARD
END:VTIMEZONE
BEGIN:VEVENT
DTSTART;VALUE=DATE:20190628
DTEND;VALUE=DATE:20190629
DTSTAMP:20210405T025301
CREATED:20190627T030026Z
LAST-MODIFIED:20190627T030026Z
UID:166022-1561680000-1561766399@www.patriotguard.org
SUMMARY:Donald Ray Hobbs
DESCRIPTION:Honor Mission\nDonald Ray Hobbs\, Veteran\nUSA – WWII\nCoweta\, Oklahoma – 06-28-19\n\n\n\nABOUT THE MISSION: \nThe family of Donald Ray Hobbs USA WWII Veteran has invited the PGR to a celebration of life at 2:00 PM.\n\n\nPRIMARY STAGING DETAILS: 06-28-19 \nStaging Time: 1:00 PM\n \nFirst Christian Church\n221 S Bristow Ave\nCoweta\, Oklahoma\n\n\nRide Captain: \nGerald”Buzzardbait”Chiappinig\nchip@msn.com9184079718\n\n\nSpecial Instructions: \nBriefing: 1:15PM\nFlag Line to follow.\nWeather: 92°/74° Sunny Hydrate Hydrate!!\n\n\nFlags & Water:\nFlags will be provided\nLarge Bike Flags will NOT be needed.\nWater WILL NOT be provided\, please bring your own.\n\n\n\nSubmitted By: Richard Fawcett \nPosition: Oklahoma Assistant State Captain \n\nNote: You do not have to own/ride a motorcycle or be a veteran to join\, and membership is Free. The only requirement is RESPECT! To subscribe to receive mission notices\, log into the National Site and click on the Members tab at the top. Select the Subscribe to PGR Missions option.\n Print This Page
URL:https://www.patriotguard.org/mission/donald-ray-hobbs/
CATEGORIES:Honor Mission
END:VEVENT
END:VCALENDAR