BEGIN:VCALENDAR
VERSION:2.0
PRODID:-//Patriot Guard Riders - ECPv5.6.0//NONSGML v1.0//EN
CALSCALE:GREGORIAN
METHOD:PUBLISH
X-WR-CALNAME:Patriot Guard Riders
X-ORIGINAL-URL:https://www.patriotguard.org
X-WR-CALDESC:Events for Patriot Guard Riders
BEGIN:VTIMEZONE
TZID:America/New_York
BEGIN:DAYLIGHT
TZOFFSETFROM:-0500
TZOFFSETTO:-0400
TZNAME:EDT
DTSTART:20160313T070000
END:DAYLIGHT
BEGIN:STANDARD
TZOFFSETFROM:-0400
TZOFFSETTO:-0500
TZNAME:EST
DTSTART:20161106T060000
END:STANDARD
END:VTIMEZONE
BEGIN:VEVENT
DTSTART;TZID=America/New_York:20160823T090000
DTEND;TZID=America/New_York:20160823T110000
DTSTAMP:20210512T005558
CREATED:20160823T130000Z
LAST-MODIFIED:20191201T143509Z
UID:409822-1471942800-1471950000@www.patriotguard.org
SUMMARY:Donald Nunn\, 95\, USA
DESCRIPTION:The family of Donald Nunn has requested the presence of the Patriot Guard Riders to honor this American Hero; it will be our honor to do so. \nDonald served in the U.S. Army 1942 to 1946.  He proudly served in WW II.  For his service he was awarded the European African Middle Eastern Service Medal\, the WW II Victory Medal\, the American Theater Service Medal and the Good Conduct Medal. \nWe have been asked to accompany this hero to his final resting place\, Miramar National Cemetery.\n\nNOTE: This mission posting is to facilitate your voluntary participation in honoring this Military Veteran. For those interested\, and all are welcome\, we will be accompanying the hero and his family from the church service to his final resting place. Please see the time table if you would like to participate. For those who would rather go directly to the cemetery\, we will meet you there.  \nTime Table for Tuesday\, 23 August 2016: \n1230 – Stage at First United Methodist Church\, 2111 Camino Del Rio S. San Diego\, CA 92116 https://goo.gl/maps/ChCDSAVBcVH2  (Please arrive quietly as services will be in progress)\n\n1245 – Mission Briefing\n\n1300 – Flag Line for Dignified Transfer to Coach\n\n1315 – (Est) KSU for accompaniment to Miramar National Cemetery\, 5795 Nobel Dr. San Diego\, CA 92122 https://goo.gl/maps/MwTSkkntWnm\n \n1330 – (Est) Arrival at Miramar National Cemetery\n\n1400 – Flag Line\, Funeral Service with Full Military Honors \nR/C  Lorenzo Lizarraga\n619-971-2236\nllizarraga@yahoo.com \nYou do not have to be a Veteran or a motorcycle rider to attend this mission. Everyone is welcome. We encourage those who do not ride to attend in your car. If this will be your first mission go to the initial staging area and you will be briefed there by the R/C (Ride Captain). Dress for motorcycle riding or dress casually if you are driving a cage (car). Please feel free to attend any portion of this mission you can. Please ride/drive safely.
URL:https://www.patriotguard.org/mission/donald-nunn-95-usa/
CATEGORIES:Archive
END:VEVENT
END:VCALENDAR