BEGIN:VCALENDAR
VERSION:2.0
PRODID:-//Patriot Guard Riders - ECPv5.3.2.1//NONSGML v1.0//EN
CALSCALE:GREGORIAN
METHOD:PUBLISH
X-WR-CALNAME:Patriot Guard Riders
X-ORIGINAL-URL:https://www.patriotguard.org
X-WR-CALDESC:Events for Patriot Guard Riders
BEGIN:VTIMEZONE
TZID:America/New_York
BEGIN:DAYLIGHT
TZOFFSETFROM:-0500
TZOFFSETTO:-0400
TZNAME:EDT
DTSTART:20190310T070000
END:DAYLIGHT
BEGIN:STANDARD
TZOFFSETFROM:-0400
TZOFFSETTO:-0500
TZNAME:EST
DTSTART:20191103T060000
END:STANDARD
END:VTIMEZONE
BEGIN:VEVENT
DTSTART;VALUE=DATE:20190903
DTEND;VALUE=DATE:20190904
DTSTAMP:20210401T113933
CREATED:20190902T144146Z
LAST-MODIFIED:20190902T144146Z
UID:172431-1567468800-1567555199@www.patriotguard.org
SUMMARY:Donald Newland
DESCRIPTION:Honor Mission\nDonald Newland\, Retired\nUSAF – Vietnam\nLufkin\, Texas – 09-03-19\n\n\n\nABOUT THE MISSION: \nMr Newland served his country in the United States Air Force on active duty for 20 years and then as a civil servant for the USAF\, totaling 49 1/2 years. He fought valiantly in the Vietnam War. Mr Newland was a member of the American Legion\, Paul Harris of International Rotary and a life member of the Veterans of Foreign Wars (Post 1836). He was also a member of St. Andrew the Apostle Catholic Church in Lufkin.\nObituary\n\n\nPRIMARY STAGING DETAILS: 09-03-19 \nStaging Time: 1:15 PM\n \nSt. Andrew the Apostle Catholic Church\n1611 Feagin Dr.\nLufkin\, Texas 75904\nMap\n\n\nRide Captain: \nCLIFF JORDAN\n936-687-4201\ncwjordan85@yahoo.com\n\n\nSpecial Instructions: \nDirections to the cemetery will be given by the Ride Captain.\nBIG FLAG BIKES REQUESTED FOR ESCORT.\nPlease remain flexible as to the requirements of the mission.(SEMPER GUMBY)\n\n\nFlags & Water:\nFlags will be provided\nIf you have large bike flags\, please bring them.\nWater will be provided.\n\n\n\nSubmitted By: Michael Eubank \nPosition: Texas Deputy State Captain \n\nNote: You do not have to own/ride a motorcycle or be a veteran to join\, and membership is Free. The only requirement is RESPECT! To subscribe to receive mission notices\, log into the National Site and click on the Members tab at the top. Select the Subscribe to PGR Missions option.\n Print This Page
URL:https://www.patriotguard.org/mission/donald-newland/
CATEGORIES:Honor Mission
END:VEVENT
END:VCALENDAR