BEGIN:VCALENDAR
VERSION:2.0
PRODID:-//Patriot Guard Riders - ECPv5.3.2.1//NONSGML v1.0//EN
CALSCALE:GREGORIAN
METHOD:PUBLISH
X-WR-CALNAME:Patriot Guard Riders
X-ORIGINAL-URL:https://www.patriotguard.org
X-WR-CALDESC:Events for Patriot Guard Riders
BEGIN:VTIMEZONE
TZID:America/New_York
BEGIN:DAYLIGHT
TZOFFSETFROM:-0500
TZOFFSETTO:-0400
TZNAME:EDT
DTSTART:20190310T070000
END:DAYLIGHT
BEGIN:STANDARD
TZOFFSETFROM:-0400
TZOFFSETTO:-0500
TZNAME:EST
DTSTART:20191103T060000
END:STANDARD
END:VTIMEZONE
BEGIN:VEVENT
DTSTART;VALUE=DATE:20190620
DTEND;VALUE=DATE:20190621
DTSTAMP:20210405T030526
CREATED:20190618T213101Z
LAST-MODIFIED:20190810T063757Z
UID:165155-1560988800-1561075199@www.patriotguard.org
SUMMARY:Donald Nathan Fox
DESCRIPTION:Honor Mission\nDonald Nathan Fox\, Veteran\nUSN\nPensacola\, Florida – 06-20-19\n\n\n \n\nABOUT THE MISSION: \nThe Family of STG3 Donald Nathan Fox\, United States Navy\, has graciously invited the Patriot Guard to escort him to his final resting place and stand a silent flag line in his honor. He was 74 years of age. SGT3 Fox honorably served in the United States Navy for over 3 years and 3 months and was honorably released from active duty on 5 Dec.1967.  Honors will be at Barrancas National Cemetery.\n\n\nPRIMARY STAGING DETAILS: 06-20-19 \nStaging Time: 10:00 AM\n \nBurger King\n2 S New Warrington Rd\nPensacola\, Florida\n\n\nRide Captain: \nRay Doyle\nretonaharley@gmail.com\n850 902 0123\n\n\nSpecial Instructions: \nNAS requires long sleeve shirts and trousers\, long-fingered gloves\, DOT approved helmets\, leather footwear covering the ankles and proper eye protection while riding aboard the base.\n10:40 AM – Safety briefing for all riders\n10:50 AM – KSU to NAS Pensacola Main Gate\n11:00 AM – Arrival at NAS Pensacola Main Gate\n11:30 AM – Honors at Barrancas National Cemetery\n\nFlags & Water:\nFlags will be provided.\nIf you have large bike flags\, please bring them.\nWater will be provided.\n\n\nSubmitted By: Ray Doyle \nPosition: Florida Assistant State Captain \n\nNote: You do not have to own/ride a motorcycle or be a veteran to join\, and membership is Free. The only requirement is RESPECT! To subscribe to receive mission notices\, log into the National Site and click on the Members tab at the top. Select the Subscribe to PGR Missions option.\n Print This Page
URL:https://www.patriotguard.org/mission/donald-nathan-fox/
CATEGORIES:Honor Mission
END:VEVENT
END:VCALENDAR