BEGIN:VCALENDAR
VERSION:2.0
PRODID:-//Patriot Guard Riders - ECPv5.3.2.1//NONSGML v1.0//EN
CALSCALE:GREGORIAN
METHOD:PUBLISH
X-WR-CALNAME:Patriot Guard Riders
X-ORIGINAL-URL:https://www.patriotguard.org
X-WR-CALDESC:Events for Patriot Guard Riders
BEGIN:VTIMEZONE
TZID:America/New_York
BEGIN:DAYLIGHT
TZOFFSETFROM:-0500
TZOFFSETTO:-0400
TZNAME:EDT
DTSTART:20190310T070000
END:DAYLIGHT
BEGIN:STANDARD
TZOFFSETFROM:-0400
TZOFFSETTO:-0500
TZNAME:EST
DTSTART:20191103T060000
END:STANDARD
END:VTIMEZONE
BEGIN:VEVENT
DTSTART;VALUE=DATE:20190809
DTEND;VALUE=DATE:20190810
DTSTAMP:20210402T130651
CREATED:20190808T203715Z
LAST-MODIFIED:20190808T204032Z
UID:170093-1565308800-1565395199@www.patriotguard.org
SUMMARY:Donald Morris Salley Sr
DESCRIPTION:Honor Mission\nDonald Morris Salley Sr\nUSN\, Vietnam\nPerryville\, Kentucky – 08-09-19\n\n\n\n\nABOUT THE MISSION: \nWe have been ask by the family to stand for and escort Donald Morris Salley Sr to his final resting place. It will be a honor to do this mission.\n\n\nPRIMARY STAGING DETAILS: 08-09-19 \nStaging Time: 10:30 am\n \nWaldon funeral Home\n2075 south Bragg St\nPerryville\, Kentucky 40468\n\n\nRide Captain: \nDavid Arnold\nkng570@aol.com\n859 338 8635\n\n\nSpecial Instructions: \n\n\nFlags & Water:\nFlags will be provided\nIf you have large bike flags\, please bring them.\nWater WILL NOT be provided\, please bring your own.\n\n\n\nSubmitted By: David Arnold \nPosition: Kentucky Ride Captain \n\nNote: You do not have to own/ride a motorcycle or be a veteran to join\, and membership is Free. The only requirement is RESPECT! To subscribe to receive mission notices\, log into the National Site and click on the Members tab at the top. Select the Subscribe to PGR Missions option.\n Print This Page
URL:https://www.patriotguard.org/mission/donald-morris-salley-sr/
CATEGORIES:Honor Mission
END:VEVENT
END:VCALENDAR