BEGIN:VCALENDAR
VERSION:2.0
PRODID:-//Patriot Guard Riders - ECPv5.3.2.1//NONSGML v1.0//EN
CALSCALE:GREGORIAN
METHOD:PUBLISH
X-WR-CALNAME:Patriot Guard Riders
X-ORIGINAL-URL:https://www.patriotguard.org
X-WR-CALDESC:Events for Patriot Guard Riders
BEGIN:VTIMEZONE
TZID:America/New_York
BEGIN:DAYLIGHT
TZOFFSETFROM:-0500
TZOFFSETTO:-0400
TZNAME:EDT
DTSTART:20190310T070000
END:DAYLIGHT
BEGIN:STANDARD
TZOFFSETFROM:-0400
TZOFFSETTO:-0500
TZNAME:EST
DTSTART:20191103T060000
END:STANDARD
END:VTIMEZONE
BEGIN:VEVENT
DTSTART;VALUE=DATE:20190329
DTEND;VALUE=DATE:20190330
DTSTAMP:20210404T180144
CREATED:20190327T031926Z
LAST-MODIFIED:20190327T031959Z
UID:155009-1553817600-1553903999@www.patriotguard.org
SUMMARY:Donald Morgan
DESCRIPTION:Memorial\nDonald Morgan\, Veteran\nUSMC\, Korea\nCoeur d Alene\, Idaho – 03-29-19\n\n\nABOUT THE MISSION:\n\nThe family of Donald Morgan has requested the presence of the Patriot Guard at his Celebration of Life at Brookdale Senior Living.Don enlisted in the United States Marine Corps in 1949 at the age of 19. He served until 1957. He attended flight school at the US Naval Air Station in Pensacola\, Florida. He received his pilot wings in 1954. He then became a helicopter flight instructor training Cadets for the Korean War. He in turn served in Korea as a helicopter pilot transporting the wounded to and from MASH units. Upon his return from the Korea Conflict Don continued as a flight instructor for the Department of Defense/ Army for over 30 years.\n\n\nPRIMARY STAGING DETAILS: 03-29-19 \nStaging Time: 2:15 pm  \nBig Lots Parking lot\nCorner of Government Way and Appleway\nCoeur d Alene\, Idaho 83815\n\n\nRide Captain: \nPamela Moist : 208-699-5873\nMary Matthews : 208-651-7648\n\n\nSpecial Instructions: \nBriefing: 2:30 pm\nKSU: 2:40 pm\n\n\nFlags & Water:\nFlags will be provided\nLarge Bike Flags will NOT be needed.\nWater WILL NOT be provided\, please bring your own.\n\n\n\nSubmitted By: Pamela Moist \nPosition: Idaho Assistant State Captain \n\nNote: You do not have to own/ride a motorcycle or be a veteran to join\, and membership is Free. The only requirement is RESPECT! To subscribe to receive mission notices\, log into the National Site and click on the Members tab at the top. Select the Subscribe to PGR Missions option.\n Print This Page
URL:https://www.patriotguard.org/mission/donald-morgan/
CATEGORIES:Memorial
END:VEVENT
END:VCALENDAR