BEGIN:VCALENDAR
VERSION:2.0
PRODID:-//Patriot Guard Riders - ECPv5.6.0//NONSGML v1.0//EN
CALSCALE:GREGORIAN
METHOD:PUBLISH
X-WR-CALNAME:Patriot Guard Riders
X-ORIGINAL-URL:https://www.patriotguard.org
X-WR-CALDESC:Events for Patriot Guard Riders
BEGIN:VTIMEZONE
TZID:America/New_York
BEGIN:DAYLIGHT
TZOFFSETFROM:-0500
TZOFFSETTO:-0400
TZNAME:EDT
DTSTART:20160313T070000
END:DAYLIGHT
BEGIN:STANDARD
TZOFFSETFROM:-0400
TZOFFSETTO:-0500
TZNAME:EST
DTSTART:20161106T060000
END:STANDARD
END:VTIMEZONE
BEGIN:VEVENT
DTSTART;TZID=America/New_York:20160811T090000
DTEND;TZID=America/New_York:20160811T110000
DTSTAMP:20210511T191118
CREATED:20160811T130000Z
LAST-MODIFIED:20191201T143711Z
UID:410013-1470906000-1470913200@www.patriotguard.org
SUMMARY:Donald M. Short
DESCRIPTION:Patriot’s Name:    SP4 Donald M. Short\nMilitary Branch:    United States Army\nClassification:    Veteran\nAdditional Military Info:  SP-4 Donald Short served in the United States Army from January\, 1956\, to December\, 1961. During this time\, he served as an artilleryman. \nLink To Obituary:\nhttp://www.legacy.com/obituaries/dfw/obituary.aspx?n=donald-martin-short&pid=181015319 \nMission Ride Captain:    Ted “Coal Miner” Waldron\, ted43@flash.net\, (817) 689-3321 \nMission Summary:    The family of Donald Short has asked the PGR to stand a flag line at the interment service at DFW National Cemetery. \nPART 1:    Interment Service\nMission Date:    Aug 11\, 2016 – Thursday\nStaging Time:    08:45\nBriefing Time:    09:00\nIn Position Time Or KSU:    09:15\nService Start Time:    09:30 \nDetails Of Part 1:    Riders will stage at the Information Center at DFW National Cemetery. Honor bikes will be selected\, a briefing conducted\, and then riders will move to the appropriate shelter to set flags and await the arrival of Donald Short\, family\, and friends. After the service\, flags will be furled and stowed\, a debriefing held\, and riders will be dismissed. \nName Of Staging Point:\nDFW National Cemetery Visitors Center\n2000 Mountain Creek Parkway\nDallas\, Texas 75211
URL:https://www.patriotguard.org/mission/donald-m-short/
CATEGORIES:Archive
END:VEVENT
END:VCALENDAR